BEGIN:VCALENDAR
VERSION:2.0
PRODID:-//ChamberMaster//Event Calendar 2.0//EN
METHOD:PUBLISH
X-PUBLISHED-TTL:P3D
REFRESH-INTERVAL:P3D
CALSCALE:GREGORIAN
BEGIN:VEVENT
DTSTART:20230923T170000Z
DTEND:20230923T230000Z
X-MICROSOFT-CDO-ALLDAYEVENT:FALSE
SUMMARY:2023 AIA San Francisco Home Tours
DESCRIPTION:AIA San Francisco (AIASF)\, in collaboration with the Center for Architecture + Design\, is pleased to offer the 2023 AIASF Home Tours (formerly San Francisco Living: Home Tours)\, an annual open house event featuring five residences designed by leading Bay Area architects will take place on Saturday\, September 23rd from 10:00 AM - 4:00 PM. \n\n\n\nAs the first tour series in the Bay Area to promote residential design\, this highly-acclaimed event showcases five projects that promote innovative residential and represent a variety of architectural styles\, neighborhoods\, and residences\, including single-family homes\, multi-family complexes\, and contemporary renovations. AIASF Home Tours takes place every year in September as part of the annual Architecture + the City Festival.\n\n\n\nTour participants view some of the latest residential projects from the inside out\, examine new housing trends\, and discover design solutions that inspire unique modern and sustainable living. This year's Home Tours Headquarters will take place at the new Center for Architecture + Design located at 140 Sutter Street in San Francisco. Additionally\, festival attendees will be able to attend the Architects Forum on Wednesday\, September 20\, featuring a panel discussion with the architects whose projects are featured in this year's AIASF Home Tours.\n\n\n\nFOR MORE INFORMATION\n\n\n\nBUY TICKETS
X-ALT-DESC;FMTTYPE=text/html:AIA San Francisco&nbsp\;(AIASF)\, in collaboration with the&nbsp\;Center for Architecture + Design\, is pleased to offer the&nbsp\;<a href="https://www.archandcity.org/2023-aiasf-home-tours-main"><strong>2023 AIASF Home Tours</strong></a>&nbsp\;(formerly&nbsp\;San Francisco Living: Home Tours)\, an annual open house event featuring five residences designed by leading Bay Area architects will take place on Saturday\, September 23rd from 10:00 AM - 4:00 PM.&nbsp\;<br />\n<br />\nAs the first tour series in the Bay Area to promote residential design\, this highly-acclaimed event showcases five projects that promote innovative residential and represent a variety of architectural styles\, neighborhoods\, and residences\, including single-family homes\, multi-family complexes\, and contemporary renovations. AIASF Home Tours takes place every year in September as part of the annual&nbsp\;Architecture + the City Festival.<br />\n<br />\nTour participants view some of the latest residential projects from the inside out\, examine new housing trends\, and discover design solutions that inspire unique modern and sustainable living. This year&rsquo\;s Home Tours Headquarters will take place at the new Center for Architecture + Design located at 140 Sutter Street in San Francisco. Additionally\, festival attendees will be able to attend the&nbsp\;<strong><a href="https://www.eventbrite.com/e/2023-aiasf-home-tours-architects-forum-tickets-692229897257?aff=oddtdtcreator">Architects&nbsp\;Forum</a></strong> on Wednesday\, September 20\, featuring a panel discussion with the architects whose projects are featured in this year&rsquo\;s AIASF Home Tours.<br />\n<br />\n<a href="https://www.archandcity.org/2023-aiasf-home-tours-main"><b>FOR MORE INFORMATION</b></a><br />\n<br />\n<a href="https://www.eventbrite.com/e/2023-aiasf-home-tours-tickets-692213528297?aff=oddtdtcreator"><strong>BUY TICKETS</strong></a>
LOCATION:Bernal Heights Golden Gate Heights Mint Hill Russian Hill Twin Peaks
UID:e.9100.5122
SEQUENCE:3
DTSTAMP:20260423T163858Z
URL:http://marinba.memberzone.com/events/details/2023-aia-san-francisco-home-tours-5122
END:VEVENT

END:VCALENDAR
