BEGIN:VCALENDAR
VERSION:2.0
PRODID:-//ChamberMaster//Event Calendar 2.0//EN
METHOD:PUBLISH
X-PUBLISHED-TTL:P3D
REFRESH-INTERVAL:P3D
CALSCALE:GREGORIAN
BEGIN:VEVENT
DTSTART:20230505T010000Z
DTEND:20230505T040000Z
X-MICROSOFT-CDO-ALLDAYEVENT:FALSE
SUMMARY:2023 AIASF Design Awards Celebration
DESCRIPTION:Join the Bay Area?s built environment community for this in-person awards ceremony and reception held at the resplendent Herbst Theatre and Green Room. Mingle with friends and colleagues and build new networks while enjoying an array of food and drinks! Be sure to reserve your spot and celebrate with us ? we look forward to celebrating with you!\n\nIn existence for half a century\, AIA San Francisco?s Design Awards program recognizes the outstanding achievements in architecture and design of Bay Area individuals and organizations\, and celebrates the distinguished work of architects and related professionals from afar who contribute to the framework of our local built environment.\n\n\n\nRecognizing achievement in a broad range of architectural work in and by the San Francisco Bay Area design community\, the Design Awards program informs the public of the breadth and value of the architectural practice.\n\nFor more info visit: https://aiasf.org/event/2023-aiasf-design-awards/\n\nAbout AIA San Francisco (AIASF)\n\nThe American Institute of Architects\, San Francisco (AIASF) is committed to enhancing the quality of life in the Bay Area by promoting excellence in architecture\, design\, and the built environment.\n\n\n\nServing the Bay Area for over a century\, AIASF is committed to enhancing the quality of life in the Bay Area by promoting excellence in architecture\, design\, and the built environment. AIASF represents members practicing architecture\, as well as allied community professionals in San Francisco and Marin counties. As a resource for our members and the public\, AIA San Francisco strives to improve the quality of life in the Bay Area through community involvement\, education\, advocacy\, public outreach\, and member services.
X-ALT-DESC;FMTTYPE=text/html:<p>Join the Bay Area?s built environment community for this in-person awards ceremony and reception held at the resplendent Herbst Theatre and Green Room. Mingle with friends and colleagues and build new networks while enjoying an array of food and drinks! Be sure to reserve your spot and celebrate with us ? we look forward to celebrating with you!</p>\n\n<p>In existence for half a century\,&nbsp\;AIA San Francisco?s Design Awards program&nbsp\;recognizes the outstanding achievements in architecture and design of Bay Area individuals and organizations\, and celebrates the distinguished work of architects and related professionals from afar who contribute to the framework of our local built environment.<br />\n<br />\nRecognizing achievement in a broad range of architectural work in and by the San Francisco Bay Area design community\, the Design Awards program informs the public of the breadth and value of the architectural practice.</p>\n\n<p><strong>For more info visit:&nbsp\;<a href="https://aiasf.org/event/2023-aiasf-design-awards/">https://aiasf.org/event/2023-aiasf-design-awards/</a></strong></p>\n\n<p><strong>About AIA San Francisco (AIASF)</strong></p>\n\n<p>The&nbsp\;American Institute of Architects\, San Francisco (AIASF)&nbsp\;is committed to enhancing the quality of life in the Bay Area by promoting excellence in architecture\, design\, and the built environment.<br />\n<br />\nServing the Bay Area for over a century\, AIASF is committed to enhancing the quality of life in the Bay Area by promoting excellence in architecture\, design\, and the built environment. AIASF represents members practicing architecture\, as well as allied community professionals in San Francisco and Marin counties. As a resource for our members and the public\, AIA San Francisco strives to improve the quality of life in the Bay Area through community involvement\, education\, advocacy\, public outreach\, and member services.</p>\n
LOCATION:Herbst Theatre 401 Van Ness Avenue San Francisco\, CA 94102
UID:e.9100.5070
SEQUENCE:3
DTSTAMP:20260424T013531Z
URL:http://marinba.memberzone.com/events/details/2023-aiasf-design-awards-celebration-5070
END:VEVENT

END:VCALENDAR
