BEGIN:VCALENDAR
VERSION:2.0
PRODID:-//ChamberMaster//Event Calendar 2.0//EN
METHOD:PUBLISH
X-PUBLISHED-TTL:P3D
REFRESH-INTERVAL:P3D
CALSCALE:GREGORIAN
BEGIN:VEVENT
DTSTART:20250424T143000Z
DTEND:20250424T180000Z
X-MICROSOFT-CDO-ALLDAYEVENT:FALSE
SUMMARY:2025 Economic Forecast – Growth\, Housing & Mobility
DESCRIPTION:My name is Karen Strolia. I am the President & CEO of the San Rafael Chamber of Commerce. I wanted to introduce myself and share with you that we are taking on what was formerly known as the Forecasting the Future event and have partnered with the County to bring you the rebranded event named the 2025 Economic Forecast: Growth\, Housing & Mobility. The event will include a data-driven conversation with renowned economist\, Chris Thornberg\, who will start with what's happening at the federal level and how decisions there will impact our local Marin economy. After his presentation\, we'll pivot to two panel discussions about housing & homelessness\, and transportation.\n\n \n\nIn addition to the on-stage conversations\, we have extended invitations to other key stakeholders of our community who are working in areas that were also mentioned as concerns by our business community\, including small business experts\, immigration\, and microlending. The goal is for our business community to gain a better understanding of these topics.\n\n \n\nI would like to personally invite you to attend this year's event. Space is extremely limited\, so I encourage you to register sooner than later through this link: https://srchamber.com/events/details/2025-economic-forecast-growth-housing-mobility-39370.\n\n \n\nPlease reach out if you have any questions. I look forward to connecting with you at the event!
X-ALT-DESC;FMTTYPE=text/html:My name is Karen Strolia. I am the President &amp\; CEO of the San Rafael Chamber of Commerce. I wanted to introduce myself and share with you that we are taking on what was formerly known as the Forecasting the Future event and have partnered with the County to bring you the rebranded event named the<strong> 2025 Economic Forecast: Growth\, Housing &amp\; Mobility.</strong> The event will include a data-driven conversation with <strong>renowned economist\, Chris Thornberg</strong>\, who will start with what&rsquo\;s happening at the federal level and how decisions there will impact our local Marin economy. After his presentation\, we&rsquo\;ll pivot to two panel discussions about housing &amp\; homelessness\, and transportation.<br />\n&nbsp\;<br />\nIn addition to the on-stage conversations\, we have extended invitations to other key stakeholders of our community who are working in areas that were also mentioned as concerns by our business community\, including small business experts\, immigration\, and microlending. The goal is for our business community to gain a better understanding of these topics.<br />\n&nbsp\;<br />\nI would like to personally invite you to attend this year&rsquo\;s event.<strong> Space is extremely limited</strong>\, so I encourage you to register sooner than later through this link: <strong><a href="https://srchamber.com/events/details/2025-economic-forecast-growth-housing-mobility-39370.">https://srchamber.com/events/details/2025-economic-forecast-growth-housing-mobility-39370.</a><br />\n&nbsp\;</strong><br />\nPlease reach out if you have any questions. I look forward to connecting with you at the event!
LOCATION:Embassy Suites of San Rafael 101 McInnis Pkwy. San Rafael\, CA 94903
UID:e.9100.5639
SEQUENCE:3
DTSTAMP:20260421T193120Z
URL:http://marinba.memberzone.com/events/details/2025-economic-forecast-growth-housing-mobility-5639
END:VEVENT

END:VCALENDAR
