BEGIN:VCALENDAR
VERSION:2.0
PRODID:-//ChamberMaster//Event Calendar 2.0//EN
METHOD:PUBLISH
X-PUBLISHED-TTL:P3D
REFRESH-INTERVAL:P3D
CALSCALE:GREGORIAN
BEGIN:VEVENT
DTSTART:20250122T180000Z
DTEND:20250122T190000Z
X-MICROSOFT-CDO-ALLDAYEVENT:FALSE
SUMMARY:2025 Employment Law Deeper Dive Webinar
DESCRIPTION:Take another look at what's new in 2025 as we dig into the regulations impacting employers and HR compliance strategy. Plus\, answers to your most common questions.\n\n\n\nJoin us Wednesday\, January 22nd at 10 a.m.\n\n\n\nREGISTER TODAY HERE!
X-ALT-DESC;FMTTYPE=text/html:<p>Take another look at what&#39\;s new in 2025 as we dig into the regulations impacting employers and HR compliance strategy. Plus\, answers to your most common questions.<br />\n<br />\n<strong>Join us Wednesday\, January 22nd at 10 a.m.</strong><br />\n<br />\n<strong><a href="https://coastalpayroll.zoom.us/webinar/register/2817337719464/WN_AWqjTkbKSve3EnSyGaXg6g#/registration">REGISTER TODAY HERE!</a></strong></p>\n
LOCATION:ZOOM WEBINAR
UID:e.9100.5621
SEQUENCE:3
DTSTAMP:20260421T225954Z
URL:http://marinba.memberzone.com/events/details/2025-employment-law-deeper-dive-webinar-5621
END:VEVENT

END:VCALENDAR
