BEGIN:VCALENDAR
VERSION:2.0
PRODID:-//ChamberMaster//Event Calendar 2.0//EN
METHOD:PUBLISH
X-PUBLISHED-TTL:P3D
REFRESH-INTERVAL:P3D
CALSCALE:GREGORIAN
BEGIN:VEVENT
DTSTART:20241023T190000Z
DTEND:20241023T203000Z
X-MICROSOFT-CDO-ALLDAYEVENT:FALSE
SUMMARY:AIA CEU Zero Net Carbon Design and Savant Energy Management Systems for Residential Homes
DESCRIPTION:Please join the Ceramic Tile Center team in our showroom for a lunch and learn that will provide AIA Continuing Education Units. The topic will apply to Zero Net Carbon Design and Savant Energy Management systems for Residential Homes. \n\n \n\nThe goal is to educate on better utilization of solar\, generator\, and backup battery systems to create a microgrid environment that eliminates the issue of running out of electricity during a power outage. Solar provides power when there's sun\, and backup batteries can provide additional power supply\, but batteries are directly connected to all electrical loads and typically only last a few hours. A sustained energy source throughout the duration of a power outage is now more important than ever with our rapidly changing climate.\n\n\n \n\nFull Spectrum Technology Group will be presenting this course with a Savant energy management system for demonstration. Full Spectrum specializes in smart home automation\, audio/video\, electrical\, security\, shades\, and lighting controls.\n\n \n\nPlease let me know if you are interested and I will be happy to send you a formal invite.\n\n\n\nKate Kelly\n\nPrincipal I Business Development\n\nPhone 415.221.8558\n\nMobile 628.269.7550\n\nceramictilecenter.com\n\nkate@ceramictilecenter.com
X-ALT-DESC;FMTTYPE=text/html:<div>Please join the Ceramic Tile Center team in our showroom for a lunch and learn that will provide AIA Continuing Education Units. The topic will apply to Zero Net Carbon Design and Savant Energy Management systems for Residential Homes.&nbsp\;</div>\n\n<div>&nbsp\;</div>\n\n<div>The goal is to educate on better utilization of solar\, generator\, and backup battery systems to create a microgrid environment that eliminates the issue of running out of electricity during a power outage. Solar provides power when there&#39\;s sun\, and backup batteries can provide additional power supply\, but batteries are directly connected to all electrical loads and typically only last a few hours. A sustained energy source throughout the duration of a power outage is now more important than ever with our rapidly changing climate.</div>\n\n<div>\n<div>&nbsp\;</div>\n\n<div>Full Spectrum Technology Group will be presenting this course with a Savant energy management system for demonstration. Full Spectrum specializes in smart home automation\, audio/video\, electrical\, security\, shades\, and lighting controls.</div>\n\n<div>&nbsp\;</div>\n\n<div>Please let me know if you are interested and I will be happy to send you a formal invite.<br />\n<br />\n<strong>Kate Kelly<br />\nPrincipal I Business Development<br />\nPhone 415.221.8558<br />\nMobile 628.269.7550<br />\n<a href="https://www.ceramictilecenter.com/">ceramictilecenter.com</a><br />\n<a href="mailto:kate@ceramictilecenter.com">kate@ceramictilecenter.com</a></strong></div>\n</div>\n
LOCATION:Ceramic Tile Center Marin Showroom 30 Castro Ave San Rafael\, CA 94901
UID:e.9100.5579
SEQUENCE:3
DTSTAMP:20260422T042458Z
URL:http://marinba.memberzone.com/events/details/aia-ceu-zero-net-carbon-design-and-savant-energy-management-systems-for-residential-homes-5579
END:VEVENT

END:VCALENDAR
