BEGIN:VCALENDAR
VERSION:2.0
PRODID:-//ChamberMaster//Event Calendar 2.0//EN
METHOD:PUBLISH
X-PUBLISHED-TTL:P3D
REFRESH-INTERVAL:P3D
CALSCALE:GREGORIAN
BEGIN:VEVENT
DTSTART:20230711T200000Z
DTEND:20230711T220000Z
X-MICROSOFT-CDO-ALLDAYEVENT:FALSE
SUMMARY:ALR Summer Soiree for Interior and Lighting Designers - North Bay
DESCRIPTION:Please join ALR in Mill Valley for a residential Title 24 code update plus "The Architecture of Luxury: Selecting Lutron Lighting Controls & Finishes for Residential Projects."
X-ALT-DESC;FMTTYPE=text/html:<br />\n<br />\nPlease join ALR in Mill Valley for a residential Title 24 code update plus &quot\;The Architecture of Luxury: Selecting Lutron Lighting Controls &amp\; Finishes for Residential Projects.&quot\;
LOCATION:The Junction 226 Shoreline Highway Mill Valley\, CA 94941
UID:e.9100.5099
SEQUENCE:3
DTSTAMP:20260423T211840Z
URL:http://marinba.memberzone.com/events/details/alr-summer-soiree-for-interior-and-lighting-designers-north-bay-5099
END:VEVENT

END:VCALENDAR
