BEGIN:VCALENDAR
VERSION:2.0
PRODID:-//ChamberMaster//Event Calendar 2.0//EN
METHOD:PUBLISH
X-PUBLISHED-TTL:P3D
REFRESH-INTERVAL:P3D
CALSCALE:GREGORIAN
BEGIN:VEVENT
DTSTART:20240906T010000Z
DTEND:20240906T040000Z
X-MICROSOFT-CDO-ALLDAYEVENT:FALSE
SUMMARY:Architecture + the City Festival Soirée
DESCRIPTION:Celebrate the 21st Annual Architecture + the City Festival as we also mark our one-year anniversary since we opened the Center for Architecture + Design in San Francisco!\n\nJoin us for this evening soir e infused with some of the best local artists and artisans   we'll kick off a month of behind-the-scenes programs\, tours\, author talks\, film screenings and more\, providing excellent opportunities for all communities to experience architecture and design in a myriad of ways throughout the city. Must be 21+ for beer/wine\; non-alcoholic beverages will be available.\n\n\n\nFor More Information and to RSVP
X-ALT-DESC;FMTTYPE=text/html:<p>Celebrate the 21st Annual Architecture + the City Festival as we also mark our one-year anniversary since we opened the Center for Architecture + Design in San Francisco!</p>\n\n<p>Join us for this evening soir&eacute\;e infused with some of the best local artists and artisans &mdash\; we&#39\;ll kick off a month of behind-the-scenes programs\, tours\, author talks\, film screenings and more\, providing excellent opportunities for all communities to experience architecture and design in a myriad of ways throughout the city. Must be 21+ for beer/wine\; non-alcoholic beverages will be available.<br />\n<br />\n<a href="https://aiasf.org/event/arch-and-city-soiree/"><u><strong>For More Information and to RSVP</strong></u></a></p>\n
LOCATION:The Center for Architecture and Design
UID:e.9100.5561
SEQUENCE:3
DTSTAMP:20260422T061650Z
URL:http://marinba.memberzone.com/events/details/architecture-the-city-festival-soir&#233;e-5561
END:VEVENT

END:VCALENDAR
