BEGIN:VCALENDAR
VERSION:2.0
PRODID:-//ChamberMaster//Event Calendar 2.0//EN
METHOD:PUBLISH
X-PUBLISHED-TTL:P3D
REFRESH-INTERVAL:P3D
CALSCALE:GREGORIAN
BEGIN:VEVENT
DTSTART:20241108T190000Z
DTEND:20241108T210000Z
X-MICROSOFT-CDO-ALLDAYEVENT:FALSE
SUMMARY:ARCPoint Labs of San Rafael Presents a Free Training for Members of the Marin Builders Association: Identifying & Responding to Workplace Drug & Alcohol Impairment
DESCRIPTION:Reasonable Suspicion Training for Supervisors\n\n \n\nARCpoint Labs of San Rafael is excited to invite members of the Marin Builders Association to our highly-rated upcoming webinar on "Reasonable Suspicion Training for Supervisors" at no cost.  This crucial training session is designed to equip all supervisors with the knowledge and skills necessary to identify and address reasonable suspicion in the workplace.\n\n \n\nWhy is this training important? \n\nUnderstanding what to look for and being trained and certified in reasonable suspicion are essential responsibilities for supervisors. It ensures a safer work environment\, promotes compliance with workplace policies\, and helps maintain your organization's integrity and reputation. \n\n\n\nUpon completion of this 2-hour training\, participants will be able to:\n\n\n	Recite the "four rules" for responding to suspected worker substance impairment\n	Discuss "barriers to reporting" and the three components of "reasonable suspicion"\n	Describe the physical\, behavioral\, odor\, and performance indicators of substance impairment\n	Demonstrate a constructive\, non-confrontational conversation with a worker suspected of substance impairment\n\n\nCost:\n\n\n	Marin Builders Members Association: No cost to attend for up to 10 attendees per member company.  \n	Non-Members: $75 per attendee.\n\n \n\nDate: Friday\, November 8\, 2024\n\nTime: 11 AM   1 PM PST\n\nPlatform: Zoom (individual link will be provided for certification)\n\n\n\nRegistration: To register for the training\, click here.\n\n \n\nOr\, email directly to mpatel@arcpointlabs.com with the following information for each attendee:\n\n\n	Full Name\n	Job Title\n	Company Name\n	Email Address\n	Phone Number\n\n\n\n\nWe look forward to your participation!
X-ALT-DESC;FMTTYPE=text/html:<div><strong>Reasonable Suspicion Training for Supervisors</strong></div>\n\n<div>&nbsp\;</div>\n\n<div>ARCpoint Labs of San Rafael is excited to invite members of the Marin Builders Association to our highly-rated upcoming webinar on &quot\;Reasonable Suspicion Training for Supervisors&rdquo\; at no cost.&nbsp\; This crucial training session is designed to equip all supervisors with the knowledge and skills necessary to identify and address reasonable suspicion in the workplace.<br />\n&nbsp\;</div>\n\n<div><strong>Why is this training important?&nbsp\;</strong></div>\n\n<div>Understanding what to look for and being trained and certified in reasonable suspicion are essential responsibilities for supervisors. It ensures a safer work environment\, promotes compliance with workplace policies\, and helps maintain your organization&#39\;s integrity and reputation.&nbsp\;</div>\n\n<div><br />\n<strong>Upon completion of this 2-hour training\, participants will be able to:</strong></div>\n\n<ul>\n	<li>Recite the &ldquo\;four rules&rdquo\; for responding to suspected worker substance impairment</li>\n	<li>Discuss &ldquo\;barriers to reporting&rdquo\; and the three components of &ldquo\;reasonable suspicion&rdquo\;</li>\n	<li>Describe the physical\, behavioral\, odor\, and performance indicators of substance impairment</li>\n	<li>Demonstrate a constructive\, non-confrontational conversation with a worker suspected of substance impairment</li>\n</ul>\n\n<div><strong>Cost:</strong></div>\n\n<ul>\n	<li>Marin Builders Members Association:&nbsp\;No cost to attend for up to 10 attendees per member company.&nbsp\;&nbsp\;</li>\n	<li>Non-Members:&nbsp\;$75 per attendee.</li>\n</ul>\n&nbsp\;\n\n<div><strong>Date: </strong>Friday\, November 8\, 2024</div>\n\n<div><strong>Time: </strong>11&nbsp\;AM &ndash\; 1&nbsp\;PM PST</div>\n\n<div><strong>Platform: </strong>Zoom (individual link will be provided for certification)<br />\n<br />\n<strong>Registration:</strong> To register for the training\, <a href="https://eviadx.com/arcpointlabsofsanrafael"><u><strong>click here</strong></u></a>.</div>\n\n<div>&nbsp\;</div>\n\n<div><strong>Or\,&nbsp\;email directly to <a href="mailto:mpatel@arcpointlabs.com">mpatel@arcpointlabs.com</a> with the following information for each attendee:</strong></div>\n\n<ul>\n	<li>Full Name</li>\n	<li>Job Title</li>\n	<li>Company Name</li>\n	<li>Email Address</li>\n	<li>Phone Number</li>\n</ul>\n\n<div><br />\n<strong>We look forward to your participation!</strong><br />\n<br />\n<br />\n&nbsp\;</div>\n\n<div>&nbsp\;</div>\n<br />\n<br />\n&nbsp\;
LOCATION:Virtual
UID:e.9100.5592
SEQUENCE:3
DTSTAMP:20260422T024152Z
URL:http://marinba.memberzone.com/events/details/arcpoint-labs-of-san-rafael-presents-a-free-training-for-members-of-the-marin-builders-association-identifying-responding-to-workplace-drug-alcohol-impairment-5592
END:VEVENT

END:VCALENDAR
