BEGIN:VCALENDAR
VERSION:2.0
PRODID:-//ChamberMaster//Event Calendar 2.0//EN
METHOD:PUBLISH
X-PUBLISHED-TTL:P3D
REFRESH-INTERVAL:P3D
CALSCALE:GREGORIAN
BEGIN:VEVENT
DTSTART:20250311T203000Z
DTEND:20250311T223000Z
X-MICROSOFT-CDO-ALLDAYEVENT:FALSE
SUMMARY:BAAQMD "J" Numbers Presentation
DESCRIPTION:The Town of Corte Madera will host the BAAQMD and a Power Point Presentation {"J" Numbers}\n\n \n\nWhen: Tuesday\, March 11\, 2025\n\nTime:   1:30 PM - 3:30 PM\n\nLocation: Town of Corte Madera   Council Chambers\n\n300 Tamalpais Drive\n\nCorte Madera\, CA 94925\n\n \n\nThe power point presentation containing general topics such as:\n\n	What is asbestos and where it comes from\n	Residential\, commercial\, and industrial uses in the construction industry\n	Finding Asbestos common locations in structures where asbestos may be found\n	Asbestos Survey/Sampling\, Single Family Dwellings (4 or less units)\, Multi Family Dwellings (5 or more units)\n	Health Effects of Asbestos\n	NESHAP Subpart M\n	Jurisdiction\n	Regulation 11\, Rule 2\n	Work Practices\n	Waste Disposal\n	Demolitions\n	Administrative\n	Notifications\n	Records\n	Safety concerns \n\nThis is an open invitation for any interested entity to attend (In-Person)\, for more information concerning "J" numbers. All jurisdictions\, building officials\, building inspectors\, permit technicians\, plans examiners\, climate action coordinators\, contractors\, architects\, and engineers are all invited and encouraged to attend free of charge. NO reservations are required.
X-ALT-DESC;FMTTYPE=text/html:The Town of Corte Madera will host the BAAQMD and a Power Point Presentation&hellip\;{&ldquo\;J&rdquo\; Numbers}<br />\n&nbsp\;<br />\nWhen: Tuesday\, March 11\, 2025<br />\nTime:&nbsp\;&nbsp\; 1:30 PM - 3:30 PM<br />\nLocation: Town of Corte Madera &ndash\; Council Chambers<br />\n300 Tamalpais Drive<br />\nCorte Madera\, CA 94925<br />\n&nbsp\;<br />\nThe power point presentation containing general topics such as:\n<ul>\n	<li>What is asbestos and where it comes from</li>\n	<li>Residential\, commercial\, and industrial uses in the construction industry</li>\n	<li>Finding Asbestos common locations in structures where asbestos may be found</li>\n	<li>Asbestos Survey/Sampling\, Single Family Dwellings (4 or less units)\, Multi Family Dwellings (5 or more units)</li>\n	<li>Health Effects of Asbestos</li>\n	<li>NESHAP Subpart M</li>\n	<li>Jurisdiction</li>\n	<li>Regulation 11\, Rule 2</li>\n	<li>Work Practices</li>\n	<li>Waste Disposal</li>\n	<li>Demolitions</li>\n	<li>Administrative</li>\n	<li>Notifications</li>\n	<li>Records</li>\n	<li>Safety concerns&nbsp\;</li>\n</ul>\nThis is an open invitation for any interested entity to attend (In-Person)\, for more information concerning &ldquo\;J&rdquo\; numbers. All jurisdictions\, building officials\, building inspectors\, permit technicians\, plans examiners\, climate action coordinators\, contractors\, architects\, and engineers are all invited and encouraged to attend free of charge. NO reservations are required.
LOCATION:Town of Corte Madera Council Chambers 300 Tamalpais Drive Corte Madera\, CA 94925
UID:e.9100.5631
SEQUENCE:3
DTSTAMP:20260421T210845Z
URL:http://marinba.memberzone.com/events/details/baaqmd-j-numbers-presentation-5631
END:VEVENT

END:VCALENDAR
