BEGIN:VCALENDAR
VERSION:2.0
PRODID:-//ChamberMaster//Event Calendar 2.0//EN
METHOD:PUBLISH
X-PUBLISHED-TTL:P3D
REFRESH-INTERVAL:P3D
CALSCALE:GREGORIAN
BEGIN:VEVENT
DTSTART:20231025T233000Z
DTEND:20231026T020000Z
X-MICROSOFT-CDO-ALLDAYEVENT:FALSE
SUMMARY:Board of Directors Meeting/Conference
DESCRIPTION:Meeting/Conference of the Marin Builders Board of Directors
X-ALT-DESC;FMTTYPE=text/html:Meeting/Conference of the Marin Builders&nbsp\;Board of Directors
LOCATION:Marin Country Club
UID:e.9100.3316
SEQUENCE:3
DTSTAMP:20260423T112701Z
URL:http://marinba.memberzone.com/events/details/board-of-directors-meeting-conference-3316
END:VEVENT

END:VCALENDAR
