BEGIN:VCALENDAR
VERSION:2.0
PRODID:-//ChamberMaster//Event Calendar 2.0//EN
METHOD:PUBLISH
X-PUBLISHED-TTL:P3D
REFRESH-INTERVAL:P3D
CALSCALE:GREGORIAN
BEGIN:VEVENT
DTSTART:20240502T190000Z
DTEND:20240502T200000Z
X-MICROSOFT-CDO-ALLDAYEVENT:FALSE
SUMMARY:Building with Structural Insulated Panels - Online Webinar
DESCRIPTION:Please join us to learn more about Structural Insulated Panels. Learn more about how we're helping builders\, developers\, architects\, and homeowners build faster\, greener and cheaper than traditional or 'stick-frame' methods. Sounds too good to be true? It's happening - come be a part.\n\n\n\nPresented by Lindsay Moon of Searchlight Lending & Greg Koepf of Shell Building Systems.\n\n\n\nWe're wholesale dealers of Premier SIPs and we're building residential and commercial faster\, greener\, and cheaper - nationwide. This is a free event.
X-ALT-DESC;FMTTYPE=text/html:<br />\nPlease join us to learn more about Structural Insulated Panels. Learn more about how we&#39\;re helping builders\, developers\, architects\, and homeowners build faster\, greener and cheaper than traditional or &#39\;stick-frame&#39\; methods. Sounds too good to be true? It&#39\;s happening - come be a part.<br />\n<br />\nPresented by Lindsay Moon of Searchlight Lending &amp\; Greg Koepf of Shell Building Systems.<br />\n<br />\nWe&#39\;re wholesale dealers of Premier SIPs and we&#39\;re building residential and commercial faster\, greener\, and cheaper - nationwide. This is a free event.
LOCATION:Virtual
UID:e.9100.5333
SEQUENCE:3
DTSTAMP:20260422T192624Z
URL:http://marinba.memberzone.com/events/details/building-with-structural-insulated-panels-online-webinar-5333
END:VEVENT

END:VCALENDAR
