BEGIN:VCALENDAR
VERSION:2.0
PRODID:-//ChamberMaster//Event Calendar 2.0//EN
METHOD:PUBLISH
X-PUBLISHED-TTL:P3D
REFRESH-INTERVAL:P3D
CALSCALE:GREGORIAN
BEGIN:VEVENT
DTSTART:20230811T000000Z
DTEND:20230811T020000Z
X-MICROSOFT-CDO-ALLDAYEVENT:FALSE
SUMMARY:Building Women Happy Hour!
DESCRIPTION:BUILDING WOMEN HAPPY HOUR\n\n\n\nThursday\, August 10\, 2023\n\n5:00 - 7:00 PM\n \n\nGott's Roadside\n\nOn the back patio\n\n302 Bon Air Center\n\nGreenbrae\, CA  94904\n\n\n\n\n\n\n\nPlease note that this is a no-host event\n\nNo RSVP required
X-ALT-DESC;FMTTYPE=text/html:<h2 style="text-align: center\;">&nbsp\;</h2>\n\n<h3 style="text-align: center\;"><strong>BUILDING WOMEN HAPPY HOUR</strong><br />\n<br />\nThursday\, August 10\, 2023<br />\n5:00 - 7:00&nbsp\;PM</h3>\n&nbsp\;\n\n<h3 style="text-align: center\;">Gott&#39\;s Roadside<br />\nOn the back patio<br />\n302 Bon Air Center<br />\nGreenbrae\, CA&nbsp\; 94904<br />\n<br />\n<br />\n<br />\nPlease note that this is a no-host&nbsp\;event<br />\nNo&nbsp\;RSVP required&nbsp\;</h3>\n&nbsp\;\n\n<div style="text-align: center\;">&nbsp\;</div>\n
LOCATION:Gott's Roadside On the back patio 302 Bon Air Center Greenbrae\, CA 94904
UID:e.9100.5067
SEQUENCE:3
DTSTAMP:20260423T194705Z
URL:http://marinba.memberzone.com/events/details/building-women-happy-hour-5067
END:VEVENT

END:VCALENDAR
