BEGIN:VCALENDAR
VERSION:2.0
PRODID:-//ChamberMaster//Event Calendar 2.0//EN
METHOD:PUBLISH
X-PUBLISHED-TTL:P3D
REFRESH-INTERVAL:P3D
CALSCALE:GREGORIAN
BEGIN:VEVENT
DTSTART:20240412T000000Z
DTEND:20240412T020000Z
X-MICROSOFT-CDO-ALLDAYEVENT:FALSE
SUMMARY:Building Women Happy Hour Social
DESCRIPTION:Please join us for this in-person social!\n\n\n\nBUILDING WOMEN HAPPY HOUR\n\n\n\nThursday\, April 11\, 2024\n\n5:00 - 7:00 PM\n \n\nCALIFORNIA GOLD\n\n848 B Street\n\nSan Rafael\, CA  94901\n\n\n\n\n\nPlease note that this is a no-host event\n\nNo RSVP required
X-ALT-DESC;FMTTYPE=text/html:<h2 style="text-align: center\;">&nbsp\;</h2>\n\n<h3 style="text-align: center\;"><span style="font-size:18px\;"><b><i>Please join us for this in-person social!</i></b></span></h3>\n\n<div style="text-align: center\;"><br />\n<span style="font-size:18px\;"><strong>BUILDING WOMEN HAPPY HOUR<br />\n<br />\nThursday\, April 11\, 2024<br />\n5:00&nbsp\;- 7:00&nbsp\;PM</strong></span></div>\n&nbsp\;\n\n<h3 style="text-align: center\;"><span style="font-size:18px\;"><strong><a href="https://www.californiagoldbar.com/">CALIFORNIA GOLD</a><br />\n848 B Street<br />\nSan Rafael\, CA&nbsp\; 94901<br />\n<br />\n<br />\nPlease note that this is a no-host&nbsp\;event<br />\nNo&nbsp\;RSVP required&nbsp\;</strong></span></h3>\n<span style="font-size:18px\;"><strong>&nbsp\;</strong></span>\n\n<div style="text-align: center\;">&nbsp\;</div>\n
LOCATION:CALIFORNIA GOLD 848 B Street San Rafael\, CA 94901
UID:e.9100.5160
SEQUENCE:3
DTSTAMP:20260422T193811Z
URL:http://marinba.memberzone.com/events/details/building-women-happy-hour-social-5160
END:VEVENT

END:VCALENDAR
