BEGIN:VCALENDAR
VERSION:2.0
PRODID:-//ChamberMaster//Event Calendar 2.0//EN
METHOD:PUBLISH
X-PUBLISHED-TTL:P3D
REFRESH-INTERVAL:P3D
CALSCALE:GREGORIAN
BEGIN:VEVENT
DTSTART:20250411T000000Z
DTEND:20250411T020000Z
X-MICROSOFT-CDO-ALLDAYEVENT:FALSE
SUMMARY:Building Women Happy Hour Social with North Coast Builders Exchange's Empowering Women in Construction Group
DESCRIPTION:Please join us for this in-person social with North Coast Builders Exchange's Empowering Women in Construction Group!\n\n\n\nBUILDING WOMEN HAPPY HOUR\n\n\n\nThursday\, April 10\, 2025\n\n5:00 - 7:00 PM\n\n\n\nCrooked Goat Brewing\n\nPetaluma Taproom\n\n110 Howard Street\n\nPetaluma\, CA  94952\n\n\n\nPlease note that this is a no-host event\n\nNo RSVP required
X-ALT-DESC;FMTTYPE=text/html:<h2 style="text-align: center\;">&nbsp\;</h2>\n\n<h3 style="text-align: center\;"><span style="font-size:18px\;"><b><i>Please join us for this in-person social with North Coast Builders Exchange&#39\;s Empowering Women in Construction Group!</i></b></span></h3>\n\n<div style="text-align: center\;"><br />\n<strong><span style="font-size:18px\;">BUILDING WOMEN HAPPY HOUR<br />\n<br />\nThursday\, April 10\, 2025<br />\n5:00&nbsp\;- 7:00&nbsp\;PM<br />\n<br />\n<a href="https://www.crookedgoatbrewing.com/petaluma">Crooked Goat Brewing</a><br />\nPetaluma Taproom<br />\n110 Howard Street<br />\nPetaluma\, CA&nbsp\; 94952</span></strong><br />\n<br />\n<strong><span style="font-size:18px\;">Please note that this is a no-host&nbsp\;event<br />\nNo&nbsp\;RSVP required&nbsp\;</span></strong></div>\n<br />\n<strong><span style="font-size:18px\;">&nbsp\;</span></strong>\n\n<div style="text-align: center\;">&nbsp\;</div>\n
LOCATION:
UID:e.9100.5590
SEQUENCE:3
DTSTAMP:20260421T174846Z
URL:http://marinba.memberzone.com/events/details/building-women-happy-hour-social-with-north-coast-builders-exchange-s-empowering-women-in-construction-group-5590
END:VEVENT

END:VCALENDAR
