BEGIN:VCALENDAR
VERSION:2.0
PRODID:-//ChamberMaster//Event Calendar 2.0//EN
METHOD:PUBLISH
X-PUBLISHED-TTL:P3D
REFRESH-INTERVAL:P3D
CALSCALE:GREGORIAN
BEGIN:VEVENT
DTSTART:20240509T190000Z
DTEND:20240509T200000Z
X-MICROSOFT-CDO-ALLDAYEVENT:FALSE
SUMMARY:Building Women Meeting: Balancing Your Busy
DESCRIPTION:Please join us for this gathering of Building Women. This meeting will be virtual via ZOOM. \n\n\n\nIt seems like we are busier than ever. Fortunately\, women are great at sharing information and helping each other out. This month's discussion topic will be 'Balancing Your Busy'.  Come ready to share the tools you use (both professionally and personally) with the group!\n\n\n\nSpace is limited so please register in advance for this meeting\, After registering\, you will receive a confirmation email containing information about joining the meeting. If you are not a current member and would like to attend as a guest\, please email Christine\n\n\n\nThe mission of this group is to help build our networks\, address issues in our industry from the female perspective\, and ultimately build our strength as a community of women within construction in the North Bay. \n\n\n\nEach meeting will feature a member presentation\, three mini-member marketing presentations\, or a topic discussion as set by the group.  As always\, there will be networking and opportunities to connect both before and after.\n\n\n\nPlease note that men who are interested are also most welcome.
X-ALT-DESC;FMTTYPE=text/html:<br />\nPlease join us for this gathering of <strong>Building Women</strong>.<strong>&nbsp\;</strong>This meeting will be virtual via ZOOM.&nbsp\;<br />\n<br />\n<strong>It seems like we are busier than ever. Fortunately\, women are great at sharing information and helping each other out. This month&#39\;s discussion topic will be &#39\;Balancing Your Busy&#39\;.&nbsp\; Come ready to share the tools you use (both professionally and personally) with the group!</strong><br />\n<br />\nSpace is limited so <a href="https://us06web.zoom.us/meeting/register/tZEpf-qqqzguGdQAzWMTGj9Qgc9M4dI7t5aa"><u><strong>please register in advance</strong></u></a> for this meeting\,&nbsp\;After registering\, you will receive a confirmation email containing information about joining the meeting.&nbsp\;If you are not a current member and would like to attend as a guest\, please&nbsp\;<u><strong><a href="mailto:christine@marinbuilders.com?subject=Building%20Women%20Meeting%20">email Christine</a></strong></u><br />\n<br />\n<em>The mission of this group is to help build our networks\, address issues in our industry from the female perspective\, and ultimately build our strength as a community of women within construction in the North Bay.&nbsp\;</em><br />\n<br />\nEach meeting will feature a member presentation\, three mini-member marketing presentations\, or a topic discussion as set by the group.&nbsp\; As always\, there will be networking and opportunities to connect both before and after.<br />\n<br />\n<em>Please note that men who are interested are also most welcome.</em>
LOCATION:Virtual via ZOOM
UID:e.9100.5318
SEQUENCE:3
DTSTAMP:20260422T162717Z
URL:http://marinba.memberzone.com/events/details/building-women-meeting-balancing-your-busy-5318
END:VEVENT

END:VCALENDAR
