BEGIN:VCALENDAR
VERSION:2.0
PRODID:-//ChamberMaster//Event Calendar 2.0//EN
METHOD:PUBLISH
X-PUBLISHED-TTL:P3D
REFRESH-INTERVAL:P3D
CALSCALE:GREGORIAN
BEGIN:VEVENT
DTSTART:20250213T200000Z
DTEND:20250213T210000Z
X-MICROSOFT-CDO-ALLDAYEVENT:FALSE
SUMMARY:Building Women Meeting: Featured Presentation - Supporting Women’s Wellness in the Workplace
DESCRIPTION:Please join us for this gathering of Building Women. This meeting will be virtual via ZOOM.\n\n\n\nSpace is limited so please register in advance for this meeting. After registering\, you will receive a confirmation email containing information about joining the meeting. If you are not a current member and would like to attend as a guest\, please email Christine\n\n\n\nThis meeting will feature an interactive presentation by Jennifer Green\, Director of Well-Being with Venbrook Group (the partner broker for Marin Builders Association's exclusive Health and Benefits Program).  Jennifer will be presenting about 'Supporting Women's Wellness in the Workplace':\n\n	Addressing Burnout \n	How Employers can help women in the workplace\n	Health Resources: Mental Health\, Financial Health\, Healthcare support\, etc.\n\nThe mission of this group is to help build our networks\, address issues in our industry from the female perspective and ultimately build our strength as a community of women within construction in the North Bay. \n\n\n\nEach meeting will feature a member presentation\, three mini-member marketing presentations\, or a topic discussion as set by the group.  As always\, there will be networking and opportunities to connect both before and after.\n\n\n\nPlease note that men who are interested are also most welcome.
X-ALT-DESC;FMTTYPE=text/html:<br />\nPlease join us for this gathering of <strong>Building Women</strong>.<strong>&nbsp\;</strong>This meeting will be virtual via ZOOM.<br />\n<br />\nSpace is limited so<a href="https://zoom.us/meeting/register/tJUtd-qqrzouG9cGZUI3EWBD8xLdeN1VTI-N"> </a><a href="https://us06web.zoom.us/meeting/register/tZwvfu6qrjgqEtErE0S9iUCih6XVCSH4cO3P"><u><strong>please register in advance</strong></u></a> for this meeting. After registering\, you will receive a confirmation email containing information about joining the meeting. If you are not a current member and would like to attend as a guest\, please&nbsp\;<u><strong><a href="mailto:christine@marinbuilders.com?subject=Building%20Women%20Meeting%20">email Christine</a></strong></u><br />\n<br />\n<strong>This meeting will feature an interactive presentation by Jennifer Green\, Director of Well-Being with Venbrook Group (the partner broker for Marin Builders Association&#39\;s exclusive <u><a href="https://buildershealthbenefits.com/marin-builders-association/">Health and Benefits Program</a></u>).&nbsp\; Jennifer will be presenting about &#39\;Supporting Women&rsquo\;s Wellness in the Workplace&#39\;:</strong>\n<ol>\n	<li><strong>Addressing Burnout&nbsp\;</strong></li>\n	<li><strong>How Employers can help women in the workplace</strong></li>\n	<li><strong>Health Resources: Mental Health\, Financial Health\, Healthcare support\, etc.</strong></li>\n</ol>\nThe mission of this group is to help build our networks\, address issues in our industry from the female perspective and ultimately build our strength as a community of women within construction in the North Bay.&nbsp\;<br />\n<br />\nEach meeting will feature a member presentation\, three mini-member marketing presentations\, or a topic discussion as set by the group.&nbsp\; As always\, there will be networking and opportunities to connect both before and after.<br />\n<br />\n<em>Please note that men who are interested are also most welcome.</em>
LOCATION:Virtual via ZOOM
UID:e.9100.5588
SEQUENCE:3
DTSTAMP:20260421T210340Z
URL:http://marinba.memberzone.com/events/details/building-women-meeting-featured-presentation-supporting-women-s-wellness-in-the-workplace-5588
END:VEVENT

END:VCALENDAR
