BEGIN:VCALENDAR
VERSION:2.0
PRODID:-//ChamberMaster//Event Calendar 2.0//EN
METHOD:PUBLISH
X-PUBLISHED-TTL:P3D
REFRESH-INTERVAL:P3D
CALSCALE:GREGORIAN
BEGIN:VEVENT
DTSTART:20240314T190000Z
DTEND:20240314T200000Z
X-MICROSOFT-CDO-ALLDAYEVENT:FALSE
SUMMARY:Building Women Meeting - Featuring Three Building Women Presenters
DESCRIPTION:Please join us for this gathering of Building Women on Zoom.\n\n\n\nSpace is limited so please register in advance for this meeting.  After registering\, you will receive a confirmation email containing information about joining the meeting. If you are not a current member and would like to attend as a guest\, please email Christine\n\n\n\nThis meeting will feature three Building Women presenters:\n\n\n\n1. Kristy Posey\, Sherwin-Williams\n\n2. Savannah Slack\, Deckmasters/Housesavers\n\n3. Carolyn Bopp\, SolarCraft\n\n\n\nEach presenter will share a quick overview/marketing pitch about their company for the group's feedback.  This offers us all a chance to get to know these members\, learn more about their businesses and help them with their marketing presence. \nThe mission of this group is to help build our networks\, address issues in our industry from the female perspective and ultimately build our strength as a community of women within construction in the North Bay. \n\n\n\nEach meeting will feature a member presentation\, three mini-member marketing presentations\, or a topic discussion as set by the group.  As always\, there will be networking and opportunities to connect both before and after.\n\n\n\nPlease note that men who are interested are also most welcome.
X-ALT-DESC;FMTTYPE=text/html:<p><br />\nPlease join us for this gathering of <strong>Building Women&nbsp\;</strong>on Zoom.<br />\n<br />\nSpace is limited so <a href="https://us06web.zoom.us/meeting/register/tZwuduqppjMsGNWcm47KECDVzxvkP3zRtpZz"><strong>please register in advance</strong> </a>for this meeting.&nbsp\;&nbsp\;After registering\, you will receive a confirmation email containing information about joining the meeting.&nbsp\;If you are not a current member and would like to attend as a guest\, please&nbsp\;<u><strong><a href="mailto:christine@marinbuilders.com?subject=Building%20Women%20Meeting%20">email Christine</a></strong></u><br />\n<br />\nThis meeting will feature three Building Women presenters:<br />\n<br />\n1. Kristy Posey\, Sherwin-Williams<br />\n2. Savannah Slack\, Deckmasters/Housesavers<br />\n3. Carolyn Bopp\,&nbsp\;SolarCraft<br />\n<br />\nEach presenter will share a quick overview/marketing pitch&nbsp\;about their company for the group&#39\;s feedback.&nbsp\; This offers us all a chance to get to know these members\, learn more about their businesses and help them with their marketing presence.&nbsp\;</p>\nThe mission of this group is to help build our networks\, address issues in our industry from the female perspective and ultimately build our strength as a community of women within construction in the North Bay.&nbsp\;<br />\n<br />\nEach meeting will feature a member presentation\, three mini-member marketing presentations\, or a topic discussion as set by the group.&nbsp\; As always\, there will be networking and opportunities to connect both before and after.<br />\n<br />\n<em>Please note that men who are interested are also most welcome.</em>
LOCATION:Virtual on Zoom
UID:e.9100.5159
SEQUENCE:3
DTSTAMP:20260422T224122Z
URL:http://marinba.memberzone.com/events/details/building-women-meeting-featuring-three-building-women-presenters-5159
END:VEVENT

END:VCALENDAR
