BEGIN:VCALENDAR
VERSION:2.0
PRODID:-//ChamberMaster//Event Calendar 2.0//EN
METHOD:PUBLISH
X-PUBLISHED-TTL:P3D
REFRESH-INTERVAL:P3D
CALSCALE:GREGORIAN
BEGIN:VEVENT
DTSTART:20240111T200000Z
DTEND:20240111T210000Z
X-MICROSOFT-CDO-ALLDAYEVENT:FALSE
SUMMARY:Building Women Meeting: Reflection and Intention
DESCRIPTION:Please join us for this gathering of Building Women. This meeting will be virtual via ZOOM. \n\n\n\nSpace is limited so please register in advance for this meeting\, After registering\, you will receive a confirmation email containing information about joining the meeting. If you are not a current member and would like to attend as a guest\, please email Christine\n\n\n\nThis month's meeting's topic will feature an open discussion about Reflection and Intention.  Janine and Lindsay will guide the conversation with some thought-inspiring questions like:\n\n\n\nREFLECTION \n\n	What made you feel purposeful this past year?\n	When did you feel most self-expressed in your business and as a leader?\n	What was the single greatest lesson of this past year and what did it teach you about yourself?\n	What new qualities\, skills\, superpowers did you discover about yourself this past year?\n	What 3 words best describe this past year?\n\nINTENTION\n\n\n	What does success look like for you in the upcoming year and how do you need to redefine your definition of success?\n	What single thing do you need to do this coming year to feel more productive and intentional around how you manage your time?\n	What new relationships do you want to develop in for the upcoming year?\n	What is your single biggest challenge in making this next year off the charts successful in your eyes? What are you committed to doing to overcome this challenge?\n\nParticipants are also encouraged to bring their go-to resource programs and inspirational tools that they find helpful as they transition to the new year\, to share with the group.  Let's all make 2024 our best year together ever!\n\n\n\nThe mission of this group is to help build our networks\, address issues in our industry from the female perspective\, and ultimately build our strength as a community of women within construction in the North Bay. \n\n\n\nEach meeting there will either be a member presentation or a topic discussion as set by the group.  As always\, there will be networking and opportunities to connect both before and after.\n\n\n\nPlease note that men who are interested are also most welcome.
X-ALT-DESC;FMTTYPE=text/html:<br />\nPlease join us for this gathering of <strong>Building Women</strong>.<strong>&nbsp\;</strong>This meeting will be virtual via ZOOM.&nbsp\;<br />\n<br />\nSpace is limited so <a href="https://us06web.zoom.us/meeting/register/tZIqduGgrDstE9N2mObUi9Fx_Ds0c96IpfAh"><u><strong>please register in advance</strong></u></a> for this meeting\,&nbsp\;After registering\, you will receive a confirmation email containing information about joining the meeting.&nbsp\;If you are not a current member and would like to attend as a guest\, please&nbsp\;<u><strong><a href="mailto:christine@marinbuilders.com?subject=Building%20Women%20Meeting%20">email Christine</a></strong></u><br />\n<br />\n<strong>This month&#39\;s meeting&#39\;s topic will feature an open discussion about Reflection and Intention.&nbsp\; Janine and Lindsay will guide the conversation with some thought-inspiring questions like:</strong><br />\n<br />\n<u>REFLECTION&nbsp\;</u>\n<ul>\n	<li>What made you feel purposeful this past year?</li>\n	<li>When did you feel most self-expressed in your business and as a leader?</li>\n	<li>What was the single greatest lesson of this past year and what did it teach you about yourself?</li>\n	<li>What new qualities\, skills\, superpowers did you discover about yourself this past year?</li>\n	<li>What 3 words best describe this past year?</li>\n</ul>\n<u>INTENTION</u>\n\n<ul>\n	<li>What does success look like for you in the upcoming year and how do you need to redefine your definition of success?</li>\n	<li>What single thing do you need to do this coming year to feel more productive and intentional around how you manage your time?</li>\n	<li>What new relationships do you want to develop in for the upcoming year?</li>\n	<li>What is your single biggest challenge in making this next year off the charts successful in your eyes? What are you committed to doing to overcome this challenge?</li>\n</ul>\n<strong>Participants are also encouraged to bring their go-to resource programs and inspirational tools that they find helpful as they transition to the new year\, to share with the group.&nbsp\; Let&#39\;s all make 2024 our best year together ever!</strong><br />\n<br />\n<em>The mission of this group is to help build our networks\, address issues in our industry from the female perspective\, and ultimately build our strength as a community of women within construction in the North Bay.&nbsp\;</em><br />\n<br />\nEach meeting there will either be a member presentation or a topic discussion as set by the group.&nbsp\; As always\, there will be networking and opportunities to connect both before and after.<br />\n<br />\n<em>Please note that men who are interested are also most welcome.</em>
LOCATION:Virtual via ZOOM
UID:e.9100.5157
SEQUENCE:3
DTSTAMP:20260423T020011Z
URL:http://marinba.memberzone.com/events/details/building-women-meeting-reflection-and-intention-5157
END:VEVENT

END:VCALENDAR
