BEGIN:VCALENDAR
VERSION:2.0
PRODID:-//ChamberMaster//Event Calendar 2.0//EN
METHOD:PUBLISH
X-PUBLISHED-TTL:P3D
REFRESH-INTERVAL:P3D
CALSCALE:GREGORIAN
BEGIN:VEVENT
DTSTART:20250109T200000Z
DTEND:20250109T210000Z
X-MICROSOFT-CDO-ALLDAYEVENT:FALSE
SUMMARY:Building Women Meeting: Setting Business Boundaries and How to Start Your Year Off Drama Free!
DESCRIPTION:Please join us for this gathering of Building Women. This meeting will be virtual via ZOOM. \n\n\n\nSpace is limited so please register in advance for this meeting\, After registering\, you will receive a confirmation email containing information about joining the meeting. If you are not a current member and would like to attend as a guest\, please email Christine\n\n\n\nThis month's meeting's topic will feature an open discussion about 'Setting Business Boundaries and How to Start Your Year Off Drama Free!''  Please come ready to share tips you are using successfully\, and learn new ones from your fellow building women. \n\n\n\nThe mission of this group is to help build our networks\, address issues in our industry from the female perspective\, and ultimately build our strength as a community of women within construction in the North Bay. \n\n\n\nEach meeting there will either be a member presentation or a topic discussion as set by the group.  As always\, there will be networking and opportunities to connect both before and after.\n\n\n\nPlease note that men who are interested are also most welcome.
X-ALT-DESC;FMTTYPE=text/html:<br />\nPlease join us for this gathering of <strong>Building Women</strong>.<strong>&nbsp\;</strong>This meeting will be virtual via ZOOM.&nbsp\;<br />\n<br />\nSpace is limited so <a href="https://us06web.zoom.us/meeting/register/tZwtfuCopzMtH9NX4iGAayWkGw3F3aS8gIUX"><u><strong>please register in advance</strong></u></a> for this meeting\,&nbsp\;After registering\, you will receive a confirmation email containing information about joining the meeting.&nbsp\;If you are not a current member and would like to attend as a guest\, please&nbsp\;<u><strong><a href="mailto:christine@marinbuilders.com?subject=Building%20Women%20Meeting%20">email Christine</a></strong></u><br />\n<br />\n<strong>This month&#39\;s meeting&#39\;s topic will feature an open discussion about &#39\;Setting Business Boundaries and How to Start Your Year Off Drama Free!&#39\;&#39\;&nbsp\;</strong>&nbsp\;Please come ready to share tips you are using successfully\, and learn new ones from your fellow building women.&nbsp\;<br />\n<br />\nThe mission of this group is to help build our networks\, address issues in our industry from the female perspective\, and ultimately build our strength as a community of women within construction in the North Bay.&nbsp\;<br />\n<br />\nEach meeting there will either be a member presentation or a topic discussion as set by the group.&nbsp\; As always\, there will be networking and opportunities to connect both before and after.<br />\n<br />\n<em>Please note that men who are interested are also most welcome.</em>
LOCATION:Virtual via ZOOM
UID:e.9100.5587
SEQUENCE:3
DTSTAMP:20260421T230515Z
URL:http://marinba.memberzone.com/events/details/building-women-meeting-setting-business-boundaries-and-how-to-start-your-year-off-drama-free-5587
END:VEVENT

END:VCALENDAR
