BEGIN:VCALENDAR
VERSION:2.0
PRODID:-//ChamberMaster//Event Calendar 2.0//EN
METHOD:PUBLISH
X-PUBLISHED-TTL:P3D
REFRESH-INTERVAL:P3D
CALSCALE:GREGORIAN
BEGIN:VEVENT
DTSTART:20260212T200000Z
DTEND:20260212T210000Z
X-MICROSOFT-CDO-ALLDAYEVENT:FALSE
SUMMARY:Building Women Meeting with Featured Presentation: Casey Mazzoni\, MBA's Director of Advocacy & Permit Improvement
DESCRIPTION:Please join us for this gathering of Building Women. This meeting will be virtual via ZOOM.\n\n\n\nSpace is limited so please register in advance for this meeting. After registering\, you will receive a confirmation email containing information about joining the meeting. If you are not a current member and would like to attend as a guest\, please email Christine\n\n\n\nThis meeting will feature a presentation by Casey Mazzoni\, Marin Builders Association's Director of Advocacy & Permit Improvement. Casey will present about MBA's advocacy efforts\, including our Permit Improvement Program\, the Builders Association PAC (Political Action Committee)\, and their respective goals for 2026.  Casey will be joined by Aimi Dutra\, the Director of Government Affairs and Community Relations for Dutra Materials\, a CRH Company.  Aimi is very active in the community and is a dedicated member of the BAPAC. \n\n\n\nThe mission of this group is to help build our networks\, address issues in our industry from the female perspective and ultimately build our strength as a community of women within construction in the North Bay. \n\n\n\nEach meeting will feature a member presentation\, three mini-member marketing presentations\, or a topic discussion as set by the group.  As always\, there will be networking and opportunities to connect both before and after.\n\n\n\nPlease note that men who are interested are also most welcome.
X-ALT-DESC;FMTTYPE=text/html:<br />\nPlease join us for this gathering of <strong>Building Women</strong>.<strong>&nbsp\;</strong>This meeting will be virtual via ZOOM.<br />\n<br />\nSpace is limited so<a href="https://zoom.us/meeting/register/tJUtd-qqrzouG9cGZUI3EWBD8xLdeN1VTI-N"> </a><a href="https://us06web.zoom.us/meeting/register/gBe1grn7Qdi0frcS3_JE9A"><u><strong>please register in advance</strong></u></a> for this meeting. After registering\, you will receive a confirmation email containing information about joining the meeting. If you are not a current member and would like to attend as a guest\, please&nbsp\;<u><strong><a href="mailto:christine@marinbuilders.com?subject=Building%20Women%20Meeting%20">email Christine</a></strong></u><br />\n<br />\n<strong>This meeting will feature a presentation by Casey Mazzoni\, Marin Builders Association&#39\;s Director of Advocacy &amp\; Permit Improvement. Casey&nbsp\;will present about MBA&#39\;s advocacy efforts\, including our <a href="https://www.marinbuilders.com/permit-simplicity-and-customer-satisfaction">Permit Improvement Program</a>\, the&nbsp\;<a href="https://www.marinbuilders.com/builders-association-political-action-committee">Builders Association PAC</a> (Political Action Committee)\, and their respective goals for 2026.&nbsp\; Casey will be joined by Aimi Dutra\, the Director of Government Affairs and Community Relations for Dutra Materials\, a CRH Company.&nbsp\; Aimi is very active in the community and is a dedicated member of the BAPAC.&nbsp\;</strong><br />\n<br />\nThe mission of this group is to help build our networks\, address issues in our industry from the female perspective and ultimately build our strength as a community of women within construction in the North Bay.&nbsp\;<br />\n<br />\nEach meeting will feature a member presentation\, three mini-member marketing presentations\, or a topic discussion as set by the group.&nbsp\; As always\, there will be networking and opportunities to connect both before and after.<br />\n<br />\n<em>Please note that men who are interested are also most welcome.</em>
LOCATION:Virtual via ZOOM
UID:e.9100.5764
SEQUENCE:3
DTSTAMP:20260420T134230Z
URL:http://marinba.memberzone.com/events/details/building-women-meeting-with-featured-presentation-casey-mazzoni-mba-s-director-of-advocacy-permit-improvement-5764
END:VEVENT

END:VCALENDAR
