BEGIN:VCALENDAR
VERSION:2.0
PRODID:-//ChamberMaster//Event Calendar 2.0//EN
METHOD:PUBLISH
X-PUBLISHED-TTL:P3D
REFRESH-INTERVAL:P3D
CALSCALE:GREGORIAN
BEGIN:VEVENT
DTSTART:20240613T190000Z
DTEND:20240613T200000Z
X-MICROSOFT-CDO-ALLDAYEVENT:FALSE
SUMMARY:Building Women Meeting With Featured Presenter: Shannon Hughes\, Enlivened Studios
DESCRIPTION:Please join us for this gathering of Building Women. This meeting will be virtual via ZOOM.\n\n\n\nSpace is limited so please register in advance for this meeting.  After registering\, you will receive a confirmation email containing information about joining the meeting.  If you are not a current member and would like to attend as a guest\, please email Christine\n\n\n\nThis month's meeting will feature a presentation by Shannon Hughes with Enlivened Studios on the topic\, 'How to Create a Thriving\, People-First Culture'.\n\n\nPeople-First Cultures prioritize and elevate the employees who comprise it\, by inviting their voices\, purpose\, and insights\, through trusting and authentic leadership. In the ever-changing business environment of today\, achieving success goes beyond mere financial metrics. Instead\, it hinges on the combined influence of a unified culture that resonates with a company's mission\, vision\, and values.  These methods and skills are easily learned and implemented with the right level of commitment.\n\n\n\nIn Shannon's presentation\, she will explore:\n\n\n	Understanding the core principles of a People-First Culture\n	Implementing actionable strategies for employee engagement and satisfaction\n	Real-life examples and case studies demonstrating the positive impact on businesses\n\n\n\nThe mission of this group is to help build our networks\, address issues in our industry from the female perspective and ultimately build our strength as a community of women within construction in the North Bay. \n\n\n\nEach meeting will feature a member presentation\, three mini-member marketing presentations\, or a topic discussion as set by the group.  As always\, there will be networking and opportunities to connect both before and after.\n\n\n\nPlease note that men who are interested are also most welcome.
X-ALT-DESC;FMTTYPE=text/html:<br />\nPlease join us for this gathering of <strong>Building Women</strong>.<strong>&nbsp\;</strong>This meeting will be virtual via ZOOM.<br />\n<br />\nSpace is limited so<a href="https://zoom.us/meeting/register/tJUtd-qqrzouG9cGZUI3EWBD8xLdeN1VTI-N"> </a><a href="https://us06web.zoom.us/meeting/register/tZAsd-6spj4sE9Oa64v6gbtlGiUCxgMdCyDO"><u><strong>please register in advance</strong></u></a> for this meeting.&nbsp\; After registering\, you will receive a confirmation email containing information about joining the meeting.&nbsp\; If you are not a current member and would like to attend as a guest\, please&nbsp\;<u><strong><a href="mailto:christine@marinbuilders.com?subject=Building%20Women%20Meeting%20">email Christine</a></strong></u><br />\n<br />\n<strong>This month&#39\;s meeting will feature a presentation by Shannon Hughes with <a href="https://www.marinbuilders.com/list/member/enlivened-studios-7322">Enlivened Studios</a> on the topic\, &#39\;<em>How to Create a Thriving\, People-First Culture&#39\;</em>.</strong>\n<div><br />\nPeople-First Cultures prioritize&nbsp\;and elevate&nbsp\;the employees who comprise it\, by&nbsp\;inviting their voices\, purpose\, and insights\, through trusting and authentic leadership. In the ever-changing business environment of today\, achieving success goes beyond mere financial metrics. Instead\, it hinges on the combined influence of a unified culture that resonates with a company&rsquo\;s mission\, vision\, and values.&nbsp\; These methods and skills are easily learned and implemented with the right level of commitment.<br />\n<br />\nIn Shannon&#39\;s&nbsp\;presentation\, she&nbsp\;will explore:</div>\n\n<ul>\n	<li>Understanding the core principles of a People-First Culture</li>\n	<li>Implementing actionable strategies for employee engagement and satisfaction</li>\n	<li>Real-life examples and case studies demonstrating the positive impact on businesses</li>\n</ul>\n<br />\n<em>The mission of this group is to help build our networks\, address issues in our industry from the female perspective and ultimately build our strength as a community of women within construction in the North Bay.&nbsp\;</em><br />\n<br />\nEach meeting will feature a member presentation\, three mini-member marketing presentations\, or a topic discussion as set by the group.&nbsp\; As always\, there will be networking and opportunities to connect both before and after.<br />\n<br />\n<em>Please note that men who are interested are also most welcome.</em>
LOCATION:Virtual
UID:e.9100.5319
SEQUENCE:3
DTSTAMP:20260422T161451Z
URL:http://marinba.memberzone.com/events/details/building-women-meeting-with-featured-presenter-shannon-hughes-enlivened-studios-5319
END:VEVENT

END:VCALENDAR
