BEGIN:VCALENDAR
VERSION:2.0
PRODID:-//ChamberMaster//Event Calendar 2.0//EN
METHOD:PUBLISH
X-PUBLISHED-TTL:P3D
REFRESH-INTERVAL:P3D
CALSCALE:GREGORIAN
BEGIN:VEVENT
DTSTART:20230428T020000Z
DTEND:20230428T030000Z
X-MICROSOFT-CDO-ALLDAYEVENT:FALSE
SUMMARY:Complimentary Webinar: Here Come Electric Trucks!
DESCRIPTION:Join Ride and Drive Clean and West Marin Climate Action for a webinar all about trucks! We'll cover the benefits of driving electric\, incentives\, charging\, and using your truck as a battery on wheels. In addition\, we'll showcase current and coming electric trucks. Bring your questions for a live Q&A. This webinar is sponsored by the County of Marin.\n\n\n\nFor More Information and to Register
X-ALT-DESC;FMTTYPE=text/html:<br />\nJoin Ride and Drive Clean and West Marin Climate Action for a webinar all about trucks! We&rsquo\;ll cover the benefits of driving electric\, incentives\, charging\, and using your truck as a battery on wheels. In addition\, we&rsquo\;ll showcase current and coming electric trucks. Bring your questions for a live Q&amp\;A. This webinar is sponsored by the County of Marin.<br />\n<br />\n<a href="https://rideanddriveclean.org/event/here-come-electric-trucks/"><u><strong>For More Information and to Register</strong></u></a><br />\n<br />\n&nbsp\;
LOCATION:Virtual on Zoom
UID:e.9100.5084
SEQUENCE:3
DTSTAMP:20260424T032442Z
URL:http://marinba.memberzone.com/events/details/complimentary-webinar-here-come-electric-trucks-5084
END:VEVENT

END:VCALENDAR
