BEGIN:VCALENDAR
VERSION:2.0
PRODID:-//ChamberMaster//Event Calendar 2.0//EN
METHOD:PUBLISH
X-PUBLISHED-TTL:P3D
REFRESH-INTERVAL:P3D
CALSCALE:GREGORIAN
BEGIN:VEVENT
DTSTART:20230802T010000Z
DTEND:20230802T040000Z
X-MICROSOFT-CDO-ALLDAYEVENT:FALSE
SUMMARY:Construyendo Mi Negocio 1ro al 31 de agosto\, 2023
DESCRIPTION:Detalles del Evento\n\n\n\nAprender c mo iniciar y administrar un negocio en 10 Clases:\n\n	Presupuesto Personal\n	Misi n\, Visi n Y Actitud Empresarial\n	Establecer Metas\n	Como Administrar un Negocio\n	Contabilidad Y Estados Financieros\n	Costos Y Punto De Equilibrio\n	Proyecci n De Ventas Y Flujo De Efectivo\n	Competencia\n	Investigaci n De Mercados\n	Publicidad\n\nInstructor: Luis tiene m s de 30 a os de experiencia como empresario as  como en planeamiento\, organizaci n\, mercadeo y finanzas. Licenciado en bienes y ra ces desde 1999\, Luis comparte sus conocimientos y experiencias en negocios con sus estudiantes para que experimenten en casos reales lo que es abrir y administrar un negocio. Sus clases no s lo son muy educativas\, pero tambi n muy entretenidas. Si desea conocer los principios b sicos para un negocio\,  no se puede perder esta clase!\n\n\n\nDURACI N: 1ro al 31 de agosto\, 2023\n\n\n\nD A Y HORA: martes y jueves\, 6p a 9p\n\n\n\nPara registrarse:REG STRESE AQU \n\n\n\nINFORMACI N: Regina 415-306-0475 / Franccesca 415-873-1057
X-ALT-DESC;FMTTYPE=text/html:<strong>Detalles del Evento</strong><br />\n<br />\nAprender c&oacute\;mo iniciar y administrar un negocio en 10 Clases:\n<ul>\n	<li>Presupuesto Personal</li>\n	<li>Misi&oacute\;n\, Visi&oacute\;n Y Actitud Empresarial</li>\n	<li>Establecer Metas</li>\n	<li>Como Administrar un Negocio</li>\n	<li>Contabilidad Y Estados Financieros</li>\n	<li>Costos Y Punto De Equilibrio</li>\n	<li>Proyecci&oacute\;n De Ventas Y Flujo De Efectivo</li>\n	<li>Competencia</li>\n	<li>Investigaci&oacute\;n De Mercados</li>\n	<li>Publicidad</li>\n</ul>\n<strong>Instructor:</strong> Luis tiene m&aacute\;s de 30 a&ntilde\;os de experiencia como empresario as&iacute\; como en planeamiento\, organizaci&oacute\;n\, mercadeo y finanzas. Licenciado en bienes y ra&iacute\;ces desde 1999\, Luis comparte sus conocimientos y experiencias en negocios con sus estudiantes para que experimenten en casos reales lo que es abrir y administrar un negocio. Sus clases no s&oacute\;lo son muy educativas\, pero tambi&eacute\;n muy entretenidas. Si desea conocer los principios b&aacute\;sicos para un negocio\, &iexcl\;no se puede perder esta clase!<br />\n<br />\nDURACI&Oacute\;N: 1ro al 31 de agosto\, 2023<br />\n<br />\nD&Iacute\;A Y HORA: martes y jueves\, 6p a 9p<br />\n<br />\nPara registrarse:<a href="https://www.marinsbdc.org/event/clase2/"><strong>REG&Iacute\;STRESE AQU&Iacute\;</strong></a><br />\n<br />\nINFORMACI&Oacute\;N: Regina 415-306-0475 / Franccesca 415-873-1057
LOCATION:Webinar
UID:e.9100.5113
SEQUENCE:3
DTSTAMP:20260423T211840Z
URL:http://marinba.memberzone.com/events/details/construyendo-mi-negocio-1ro-al-31-de-agosto-2023-5113
END:VEVENT

END:VCALENDAR
