BEGIN:VCALENDAR
VERSION:2.0
PRODID:-//ChamberMaster//Event Calendar 2.0//EN
METHOD:PUBLISH
X-PUBLISHED-TTL:P3D
REFRESH-INTERVAL:P3D
CALSCALE:GREGORIAN
BEGIN:VEVENT
DTSTART:20230927T010000Z
DTEND:20230927T040000Z
X-MICROSOFT-CDO-ALLDAYEVENT:FALSE
SUMMARY:Construyendo Mi Negocio 26 de Sept a 26 de Oct\, 2023
DESCRIPTION:Detalles del Evento\n\n\nAprender c mo iniciar y administrar un negocio en 10 Clases:\n\n	Presupuesto Personal\n	Misi n\, Visi n Y Actitud Empresarial\n	Establecer Metas\n	Como Administrar un Negocio\n	Contabilidad Y Estados Financieros\n	Costos Y Punto De Equilibrio\n	Proyecci n De Ventas Y Flujo De Efectivo\n	Competencia\n	Investigaci n De Mercados\n	Publicidad\n\nINSTRUCTOR: Luis tiene m s de 30 a os de experiencia como empresario as  como en planeamiento\, organizaci n\, mercadeo y finanzas. Licenciado en bienes y ra ces desde 1999\, Luis comparte sus conocimientos y experiencias en negocios con sus estudiantes para que experimenten en casos reales lo que es abrir y administrar un negocio. Sus clases no s lo son muy educativas\, pero tambi n muy entretenidas. Si desea conocer los principios b sicos para un negocio\,  no se puede perder esta clase!\n\n\n\nDURACI N: 26 de sept a 26 de oct\, 2023\n\n\n\nD A Y HORA: martes y jueves\, 6:00pm   9:00pm\n\n\n\nLUGAR: Webinar\n\n\n\nCOSTO: Gratis debido a una beca de Wells Fargo (normalmente $100)\n\n\n\nINFORMACI N: Regina 415-306-0475 / Franccesca 415-873-1057\n\n\n\nFOGETTO\n\n\n\nREG STRESE AQU
X-ALT-DESC;FMTTYPE=text/html:<h2><strong>Detalles del Evento</strong></h2>\n<br />\nAprender c&oacute\;mo iniciar y administrar un negocio en 10 Clases:\n<ul>\n	<li>Presupuesto Personal</li>\n	<li>Misi&oacute\;n\, Visi&oacute\;n Y Actitud Empresarial</li>\n	<li>Establecer Metas</li>\n	<li>Como Administrar un Negocio</li>\n	<li>Contabilidad Y Estados Financieros</li>\n	<li>Costos Y Punto De Equilibrio</li>\n	<li>Proyecci&oacute\;n De Ventas Y Flujo De Efectivo</li>\n	<li>Competencia</li>\n	<li>Investigaci&oacute\;n De Mercados</li>\n	<li>Publicidad</li>\n</ul>\n<strong>INSTRUCTOR:</strong> Luis tiene m&aacute\;s de 30 a&ntilde\;os de experiencia como empresario as&iacute\; como en planeamiento\, organizaci&oacute\;n\, mercadeo y finanzas. Licenciado en bienes y ra&iacute\;ces desde 1999\, Luis comparte sus conocimientos y experiencias en negocios con sus estudiantes para que experimenten en casos reales lo que es abrir y administrar un negocio. Sus clases no s&oacute\;lo son muy educativas\, pero tambi&eacute\;n muy entretenidas. Si desea conocer los principios b&aacute\;sicos para un negocio\, &iexcl\;no se puede perder esta clase!<br />\n<br />\n<strong>DURACI&Oacute\;N:</strong> 26 de sept a 26 de oct\, 2023<br />\n<br />\n<strong>D&Iacute\;A Y HORA: </strong>martes y jueves\, 6:00pm &ndash\; 9:00pm<br />\n<br />\n<strong>LUGAR:</strong> Webinar<br />\n<br />\n<strong>COSTO:</strong> Gratis debido a una beca de Wells Fargo (normalmente $100)<br />\n<br />\n<strong>INFORMACI&Oacute\;N: </strong>Regina 415-306-0475 / Franccesca 415-873-1057<br />\n<br />\n<strong><a href="https://chambermaster.blob.core.windows.net/userfiles/UserFiles/chambers/9100/File/Events/Community_Events/2023/Marin-Builders-SBDC-Construyendo-Mi-Negocio-Sept-Oct-2023.pdf">FOGETTO</a></strong><br />\n<br />\n<strong><a href="https://www.marinsbdc.org/event/construyendo5/">REG&Iacute\;STRESE AQU&Iacute\;&nbsp\;</a></strong>
LOCATION:Webinar
UID:e.9100.5123
SEQUENCE:3
DTSTAMP:20260423T164052Z
URL:http://marinba.memberzone.com/events/details/construyendo-mi-negocio-26-de-sept-a-26-de-oct-2023-5123
END:VEVENT

END:VCALENDAR
