BEGIN:VCALENDAR
VERSION:2.0
PRODID:-//ChamberMaster//Event Calendar 2.0//EN
METHOD:PUBLISH
X-PUBLISHED-TTL:P3D
REFRESH-INTERVAL:P3D
CALSCALE:GREGORIAN
BEGIN:VEVENT
DTSTART:20230427T150000Z
DTEND:20230427T180000Z
X-MICROSOFT-CDO-ALLDAYEVENT:FALSE
SUMMARY:BAYREN Home + Contractor Info Session: Energy Retrofit Rebates
DESCRIPTION:Billions of dollars are becoming available through tax incentives and local\, state\, and federal rebate programs for residential energy efficiency retrofit projects. If your company works on residential HVAC\, plumbing\, building shell\, or electrical retrofit projects\, join us for the North Bay Contractor Info Session in Petaluma on April 27 to learn how you and your clients can take advantage of these spending programs. \n\n\n\nThis free event includes breakfast and will cover the following programs:\n\n	Federal Tax Credits and Incentives through the Inflation Reduction Act\n	TECH Clean California + Self-Generation Incentive Program (SGIP)\n	BayREN Rebates\n	Local Electricity Provider Programs (MCE\; Sonoma Clean Power)\n	Upcoming training opportunities for contractors\n\n\n\nEvent Agenda:\n\n8am - Doors Open\n\n8:30 to 10am - Info Session\n\n10 to 11am - Optional Networking Time\n\n\n\nLocation:\n\nPetaluma Veterans Memorial Building\n\n1094 Petaluma Blvd South\, Petaluma\, CA 94952\n\n\n\nFor More Information and to Register\n\n\n\nQuestions? Contact Kellen Dammann\, kdammann@marincounty.org\, (415) 473-2698.
X-ALT-DESC;FMTTYPE=text/html:<br />\nBillions of dollars are becoming available through tax incentives and local\, state\, and federal rebate programs for residential energy efficiency retrofit projects. If your company works on residential HVAC\, plumbing\, building shell\, or electrical retrofit projects\, join us for the North Bay Contractor Info Session in Petaluma on April 27 to learn how you and your clients can take advantage of these spending programs.&nbsp\;<br />\n<br />\nThis free event includes breakfast and will cover the following programs:\n<ul>\n	<li>Federal Tax Credits and Incentives through the Inflation Reduction Act</li>\n	<li>TECH Clean California + Self-Generation Incentive Program (SGIP)</li>\n	<li>BayREN Rebates</li>\n	<li>Local Electricity Provider Programs (MCE\; Sonoma Clean Power)</li>\n	<li>Upcoming training opportunities for contractors</li>\n</ul>\n<br />\n<u>Event Agenda:</u><br />\n8am - Doors Open<br />\n8:30 to 10am - Info Session<br />\n10 to 11am - Optional Networking Time<br />\n<br />\n<u>Location:</u><br />\nPetaluma Veterans Memorial Building<br />\n1094 Petaluma Blvd South\, Petaluma\, CA 94952<br />\n<br />\n<a href="https://www.eventbrite.com/e/north-bay-contractor-information-session-tickets-549679705797"><strong>For More Information and to Register</strong></a><br />\n<br />\nQuestions? Contact Kellen Dammann\, <a href="mailto:kdammann@marincounty.org">kdammann@marincounty.org</a>\, (415) 473-2698.
LOCATION:Petaluma Veterans Memorial Building 1094 Petaluma Blvd South\, Petaluma\, CA 94952
UID:e.9100.5083
SEQUENCE:3
DTSTAMP:20260424T032544Z
URL:http://marinba.memberzone.com/events/details/contractor-info-session-energy-retrofit-rebates-5083
END:VEVENT

END:VCALENDAR
