BEGIN:VCALENDAR
VERSION:2.0
PRODID:-//ChamberMaster//Event Calendar 2.0//EN
METHOD:PUBLISH
X-PUBLISHED-TTL:P3D
REFRESH-INTERVAL:P3D
CALSCALE:GREGORIAN
BEGIN:VEVENT
DTSTART:20230517T190000Z
DTEND:20230517T200000Z
X-MICROSOFT-CDO-ALLDAYEVENT:FALSE
SUMMARY:Creative Ways to Fund Your Business
DESCRIPTION:Looking for options other than a standard bank loan? Join expert John DeGaetano\, SBDC advisor and former bank executive\, for a comprehensive view of funding options\, and how you can combine more than one for your business launch or expansion. Don't miss tapping into money available to you! \n\nKey Points:\n\n\n	Overview of the difference between traditional lending and alternative lending\n	Microloans\n	Friends and family investment\n	Crowdfunding\n	Purchase order financing\n	Product presales\n	Factoring\n	Risk factors of funding options\n\n\n\n\nAbout the instructor: \n\nInstructor John DeGaetano is a former bank executive with a strong background in management and leadership. DeGaetano has extensive experience in administration\, marketing\, sales planning\, training\, operations\, auditing\, project management\, and financial analysis. During his tenure as Vice President and Regional Manager for a community bank\, he played a major role in the bank's growth and designed and implemented marketing concepts\, sales campaigns\, training\, and quality assurance programs\, client consulting/business development\, operational functions\, fraud awareness\, and security policy.\n\n\n\nFor More Information and to Register
X-ALT-DESC;FMTTYPE=text/html:<p>Looking for options other than a standard bank loan? Join expert John DeGaetano\, SBDC advisor and former bank executive\, for a comprehensive view of funding options\, and how you can combine more than one for your business launch or expansion. Don&rsquo\;t miss tapping into money available to you!&nbsp\;</p>\n\n<p><strong>Key Points:</strong></p>\n\n<ul>\n	<li>Overview of the difference between&nbsp\;traditional lending and alternative lending</li>\n	<li>Microloans</li>\n	<li>Friends and family investment</li>\n	<li>Crowdfunding</li>\n	<li>Purchase order financing</li>\n	<li>Product presales</li>\n	<li>Factoring</li>\n	<li>Risk factors of funding options</li>\n</ul>\n\n<p><br />\n<strong>About the instructor:&nbsp\;</strong><br />\nInstructor John DeGaetano is a former bank executive with a strong background in management and leadership. DeGaetano has extensive experience in administration\, marketing\, sales planning\, training\, operations\, auditing\, project management\, and financial analysis. During his tenure as Vice President and Regional Manager for a community bank\, he played a major role in the bank&rsquo\;s growth and designed and implemented marketing concepts\, sales campaigns\, training\, and quality assurance programs\, client consulting/business development\, operational functions\, fraud awareness\, and security policy.<br />\n<br />\n<a href="https://www.eventbrite.com/e/creative-ways-to-fund-your-business-tickets-571163815347"><u><strong>For More Information and to Register</strong></u></a></p>\n
LOCATION:Virtual
UID:e.9100.5081
SEQUENCE:3
DTSTAMP:20260424T014345Z
URL:http://marinba.memberzone.com/events/details/creative-ways-to-fund-your-business-5081
END:VEVENT

END:VCALENDAR
