BEGIN:VCALENDAR
VERSION:2.0
PRODID:-//ChamberMaster//Event Calendar 2.0//EN
METHOD:PUBLISH
X-PUBLISHED-TTL:P3D
REFRESH-INTERVAL:P3D
CALSCALE:GREGORIAN
BEGIN:VEVENT
DTSTART:20230928T190000Z
DTEND:20230928T203000Z
X-MICROSOFT-CDO-ALLDAYEVENT:FALSE
SUMMARY:Digital Marketing Fundamentals
DESCRIPTION:Event Details\nChoosing\, building and managing digital marketing channels can be overwhelming. Yet\, without digital marketing your business will struggle to grow.\n\n\n\nIn this interactive Webinar\, we will guide you through your digital marketing channel options and help you decide which ones\, in what order\, make the most sense for your business.\n\n\n\nThe course will cover:\n\n	Traffic versus Conversions and how to approach both\n	Financial models to help with return on investment\n	Search Engine Marketing\, Paid and Organic\, Local versus National\n	Google Tools   Ads\, Analytics\, Search Console\, Business Profile\n	Channels like email\, social media & Amazon\n	Data analytics\, website optimization and continuous improvement principles\n\nInstructor Bill Ross is a 20+ year digital marketing veteran with experience ranging from being a Founder/CEO of a high volume BtoC eCommerce business to working as a Senior Operations Manager at Amazon Logistics. Bill has a Master's Degree in Marketing Information Systems and actively coaches eCommerce clients.\n\n\n\nThe information provided in this webinar and an\n\n\n\nVIEW FLYER
X-ALT-DESC;FMTTYPE=text/html:<h2><strong>Event Details</strong></h2>\nChoosing\, building and managing digital marketing channels can be overwhelming. Yet\, without digital marketing your business will struggle to grow.<br />\n<br />\nIn this interactive Webinar\, we will guide you through your digital marketing channel options and help you decide which ones\, in what order\, make the most sense for your business.<br />\n<br />\nThe course will cover:\n<ul>\n	<li>Traffic versus Conversions and how to approach both</li>\n	<li>Financial models to help with return on investment</li>\n	<li>Search Engine Marketing\, Paid and Organic\, Local versus National</li>\n	<li>Google Tools &ndash\; Ads\, Analytics\, Search Console\, Business Profile</li>\n	<li>Channels like email\, social media &amp\; Amazon</li>\n	<li>Data analytics\, website optimization and continuous improvement principles</li>\n</ul>\nInstructor Bill Ross is a 20+ year digital marketing veteran with experience ranging from being a Founder/CEO of a high volume BtoC eCommerce business to working as a Senior Operations Manager at Amazon Logistics. Bill has a Master&rsquo\;s Degree in Marketing Information Systems and actively coaches eCommerce clients.<br />\n<br />\nThe information provided in this webinar and an<br />\n<br />\n<a href="https://chambermaster.blob.core.windows.net/userfiles/UserFiles/chambers/9100/File/Events/Member_Events/SBDC_Events/Marin-Builders-SBDC-September-Workshops-2023.pdf"><strong>VIEW FLYER</strong></a><br />\n&nbsp\;
LOCATION:Virtual Webinar
UID:e.9100.5134
SEQUENCE:3
DTSTAMP:20260423T180659Z
URL:http://marinba.memberzone.com/events/details/digital-marketing-fundamentals-5134
END:VEVENT

END:VCALENDAR
