BEGIN:VCALENDAR
VERSION:2.0
PRODID:-//ChamberMaster//Event Calendar 2.0//EN
METHOD:PUBLISH
X-PUBLISHED-TTL:P3D
REFRESH-INTERVAL:P3D
CALSCALE:GREGORIAN
BEGIN:VEVENT
DTSTART:20230920T013000Z
DTEND:20230920T033000Z
X-MICROSOFT-CDO-ALLDAYEVENT:FALSE
SUMMARY:El Mercadeo de Contar Cuentos a través del Vídeo y la Imagen
DESCRIPTION:Detalles sobre el evento\n\n\n\n Sus fotos y videos le est n sirviendo?  Ahora m s que nunca\, las im genes y los videos son componentes claves para maximizar sus esfuerzos de mercadeo. Aprenda de un experto c mo\n\npromocionarte a trav s de sus im genes. Aprenda lo que se necesita para crear una imagen o video que tenga impacto y que atraiga\, para que sus clientes quieran conectarse y seguirle en las plataformas. Este ser  un taller pr ctico\, as  que traiga sus fotos y prep rese para mirar y analizar sus cuentas de medios sociales.\n\n\n\nInstructora Malinalli L pez Arregu n es escritora\, emprendedora y productora de pel culas. Criada en Sonoma\, lanz  su primer negocio a los 24 a os. Hoy tiene agencia de producci n\, XQL Media que produce pel culas y comerciales y es due a de The Bronze Rose que produce contenido digital para negocios peque os con un enfoque en el impacto social.\n\n\nLea el folletto aqui
X-ALT-DESC;FMTTYPE=text/html:<h2>Detalles sobre el evento</h2>\n\n<div><br />\n&iquest\;Sus fotos y videos le est&aacute\;n sirviendo?&nbsp\; Ahora m&aacute\;s que nunca\, las im&aacute\;genes y los videos son componentes claves para maximizar sus esfuerzos de&nbsp\;mercadeo. Aprenda de un experto c&oacute\;mo<br />\npromocionarte a trav&eacute\;s de sus im&aacute\;genes. Aprenda lo que se necesita para crear una imagen o video que tenga impacto y que atraiga\, para que sus clientes quieran conectarse y seguirle en las plataformas. Este ser&aacute\; un taller pr&aacute\;ctico\, as&iacute\; que traiga sus fotos y prep&aacute\;rese para mirar y analizar sus cuentas de medios sociales.<br />\n<br />\nInstructora Malinalli L&oacute\;pez Arregu&iacute\;n es escritora\, emprendedora y productora de pel&iacute\;culas. Criada en Sonoma\, lanz&oacute\; su primer negocio a los 24 a&ntilde\;os. Hoy tiene agencia de producci&oacute\;n\, XQL Media que produce pel&iacute\;culas y comerciales y es due&ntilde\;a de The Bronze Rose que produce contenido digital para negocios peque&ntilde\;os con un enfoque en el impacto social.</div>\n<br />\n<strong><a href="https://chambermaster.blob.core.windows.net/userfiles/UserFiles/chambers/9100/File/Events/Member_Events/SBDC_Events/Marin-Builders-SBDC-September-Workshop-SP-2023.pdf">Lea el folletto aqui</a></strong>
LOCATION:Virtual Webinar
UID:e.9100.5137
SEQUENCE:3
DTSTAMP:20260423T164158Z
URL:http://marinba.memberzone.com/events/details/el-mercadeo-de-contar-cuentos-a-trav&#233;s-del-v&#237;deo-y-la-imagen-5137
END:VEVENT

END:VCALENDAR
