BEGIN:VCALENDAR
VERSION:2.0
PRODID:-//ChamberMaster//Event Calendar 2.0//EN
METHOD:PUBLISH
X-PUBLISHED-TTL:P3D
REFRESH-INTERVAL:P3D
CALSCALE:GREGORIAN
BEGIN:VEVENT
DTSTART:20241205T180000Z
DTEND:20241205T190000Z
X-MICROSOFT-CDO-ALLDAYEVENT:FALSE
SUMMARY:Employment Law Update Webinar
DESCRIPTION:A new year brings new regulations for employers. Join our HR pros for a look ahead at what may impact your business and your compliance strategy. \n\n\nJoin us Thursday\, December 5th at 10:00 a.m.\n\n\nREGISTER TODAY HERE!
X-ALT-DESC;FMTTYPE=text/html:<br />\nA new year brings new regulations for employers. Join our HR pros for a look ahead at what may impact your business and your compliance strategy.&nbsp\;\n<p><br />\n<strong>Join us Thursday\, December 5th at 10:00 a.m.</strong></p>\n<br />\n<a href="https://coastalpayroll.zoom.us/webinar/register/1017283208467/WN_DCBq7QXxS9CEmZZ-9eRa4A"><strong>REGISTER TODAY HERE!</strong></a><br />\n&nbsp\;
LOCATION:ZOOM WEBINAR
UID:e.9100.5593
SEQUENCE:3
DTSTAMP:20260422T003312Z
URL:http://marinba.memberzone.com/events/details/employment-law-update-webinar-5593
END:VEVENT

END:VCALENDAR
