BEGIN:VCALENDAR
VERSION:2.0
PRODID:-//ChamberMaster//Event Calendar 2.0//EN
METHOD:PUBLISH
X-PUBLISHED-TTL:P3D
REFRESH-INTERVAL:P3D
CALSCALE:GREGORIAN
BEGIN:VEVENT
DTSTART:20240424T013000Z
DTEND:20240424T033000Z
X-MICROSOFT-CDO-ALLDAYEVENT:FALSE
SUMMARY:Estrategia De Redes Sociales: Optimice Sus Esfuerzos
DESCRIPTION:Este seminario virtual explicar  c mo crear una estrategia de redes sociales\, armar un calendario de contenido para optimizar sus esfuerzos de mercadeo\; c mo usar palabras clave\, las capciones y los hashtags para mejorar el SEO (u OMB\, Optimizaci n de Motores de B squeda)\; destacarse en el mar de las redes sociales y aprender consejos para ahorrar tiempo.\n\nInstructora Ana Boa-Ventura es la fundadora de One Insight LLC en San Francisco\, y co-fundadora de OndaFlow Ltd\, una agencia ubicada en Portugal. En ambos\, ofrecen servicios de mercadeo digital que incluyen mercadeo de contenido\, mercadeo de redes sociales\, SEO (Optimizaci n en Buscadores)\, y automatizaci n de mercadeo. Ana ayuda a que el p blico pueda encontrar las empresas\, y a expandirse a trav s del crecimiento tanto de clientes potenciales como clientes de pago\, a trav s de una estrategia de mercadeo concertado en donde la marca es clave.\n\n\n\nRegistar para el evento: https://www.marinsbdc.org/event/redessociales3/
X-ALT-DESC;FMTTYPE=text/html:<p>Este seminario virtual explicar&aacute\; c&oacute\;mo crear una estrategia de redes sociales\, armar un calendario de contenido para optimizar sus esfuerzos de mercadeo\; c&oacute\;mo usar palabras clave\, las capciones y los hashtags para mejorar el SEO (u OMB\, Optimizaci&oacute\;n de Motores de B&uacute\;squeda)\; destacarse en el mar de las redes sociales y aprender consejos para ahorrar tiempo.</p>\n\n<p>Instructora Ana Boa-Ventura es la fundadora de One Insight LLC en San Francisco\, y co-fundadora de OndaFlow Ltd\, una agencia ubicada en Portugal. En ambos\, ofrecen servicios de mercadeo digital que incluyen mercadeo de contenido\, mercadeo de redes sociales\, SEO (Optimizaci&oacute\;n en Buscadores)\, y automatizaci&oacute\;n de mercadeo. Ana ayuda a que el p&uacute\;blico pueda encontrar las empresas\, y a expandirse a trav&eacute\;s del crecimiento tanto de clientes potenciales como clientes de pago\, a trav&eacute\;s de una estrategia de mercadeo concertado en donde la marca es clave.<br />\n<br />\n<strong>Registar para el evento:&nbsp\;<a href="http://www.marinsbdc.org/event/redessociales3/">https://www.marinsbdc.org/event/redessociales3/</a></strong></p>\n
LOCATION:Via Zoom
UID:e.9100.5323
SEQUENCE:3
DTSTAMP:20260422T193902Z
URL:http://marinba.memberzone.com/events/details/estrategia-de-redes-sociales-optimice-sus-esfuerzos-5323
END:VEVENT

END:VCALENDAR
