BEGIN:VCALENDAR
VERSION:2.0
PRODID:-//ChamberMaster//Event Calendar 2.0//EN
METHOD:PUBLISH
X-PUBLISHED-TTL:P3D
REFRESH-INTERVAL:P3D
CALSCALE:GREGORIAN
BEGIN:VEVENT
DTSTART:20230914T013000Z
DTEND:20230914T033000Z
X-MICROSOFT-CDO-ALLDAYEVENT:FALSE
SUMMARY:Estrategia de Redes Sociales: Optimise Sus Esfuerzos
DESCRIPTION:Detalles sobre el evento\n\n\nInstructora Malinalli L pez Arregu n es escritora\, emprendedora y productora de pel culas. Criada en Sonoma\, lanz  su primer negocio a los 24 a os. Hoy tiene agencia de producci n\, XQL Media que produce pel culas y comerciales\, y es due a de The Bronze Rose que produce contenido digital para negocios peque os con un enfoque en el impacto social.\n\n\n\nEste seminario virtual explicar  c mo crear una estrategia de redes sociales\, armar un calendario de contenido para optimizar sus esfuerzos de mercadeo\; c mo usar palabras clave\, las capciones y los hashtags para mejorar el SEO (u OMB\, Optimizaci n de Motores de B squeda)\; destacarse en el mar de las redes sociales y aprender consejos para ahorrar tiempo.\n\n\n\nLea el folletto aqui
X-ALT-DESC;FMTTYPE=text/html:<h2><strong>Detalles sobre el evento</strong></h2>\n<br />\nInstructora Malinalli L&oacute\;pez Arregu&iacute\;n es escritora\, emprendedora y productora de pel&iacute\;culas. Criada en Sonoma\, lanz&oacute\; su primer negocio a los 24 a&ntilde\;os. Hoy tiene agencia de producci&oacute\;n\, XQL Media que produce pel&iacute\;culas y comerciales\, y es due&ntilde\;a de The Bronze Rose que produce contenido digital para negocios peque&ntilde\;os con un enfoque en el impacto social.<br />\n<br />\nEste seminario virtual explicar&aacute\; c&oacute\;mo crear una estrategia de redes sociales\, armar un calendario de contenido para optimizar sus esfuerzos de mercadeo\; c&oacute\;mo usar palabras clave\, las capciones y los hashtags para mejorar el SEO (u OMB\, Optimizaci&oacute\;n de Motores de B&uacute\;squeda)\; destacarse en el mar de las redes sociales y aprender consejos para ahorrar tiempo.<br />\n<br />\n<a href="https://chambermaster.blob.core.windows.net/userfiles/UserFiles/chambers/9100/File/Events/Member_Events/SBDC_Events/Marin-Builders-SBDC-September-Workshop-SP-2023.pdf">Lea el folletto aqui</a>
LOCATION:Virtual Webinar
UID:e.9100.5135
SEQUENCE:3
DTSTAMP:20260423T164251Z
URL:http://marinba.memberzone.com/events/details/estrategia-de-redes-sociales-optimise-sus-esfuerzos-5135
END:VEVENT

END:VCALENDAR
