BEGIN:VCALENDAR
VERSION:2.0
PRODID:-//ChamberMaster//Event Calendar 2.0//EN
METHOD:PUBLISH
X-PUBLISHED-TTL:P3D
REFRESH-INTERVAL:P3D
CALSCALE:GREGORIAN
BEGIN:VEVENT
DTSTART:20231120T200000Z
DTEND:20231120T220000Z
X-MICROSOFT-CDO-ALLDAYEVENT:FALSE
SUMMARY:Feedback Opportunity for Wildfire Preparedness Program
DESCRIPTION:University of Oregon researchers need your help! The Insurance Institute for Business and Home Safety (IBHS)  has established Wildfire Prepared Homes and  Wildfire Prepared Homes Plus designations in California that are designed to help mitigate fire risk while also providing benefits\, such as insurance premium reductions.\n\n\n\nWe are hosting a focus group session in San Rafael to gather feedback from fire professionals\, master gardeners\, insurance companies\, and builders within Marin County about their experiences with mitigating wildfire risk and what they think about the IBHS programs. We will start with an information session about the IBHS programs and have an open discussion about what you think of the programs and how they can be tailored to better fit your needs. Focus groups typically take 90-120 minutes. Focus group participants will receive a $50 Amazon gift card as a thank you.\n\n\n\nMonday\, 11/20 from 12:00 pm-2:00 pm at \n\nMarin Builders Association\, 660 Las Gallinas Avenue\, San Rafael\n\n\n\nPlease reserve your spot by emailing our team or by visiting this site: https://forms.gle/mrguqu8nnQULonmf6\n\n\n\nView Flyer Here
X-ALT-DESC;FMTTYPE=text/html:<br />\nUniversity of Oregon researchers need your help! The Insurance Institute for Business and Home Safety (IBHS)&nbsp\; has established <a href="https://wildfireprepared.org/wildfire-prepared-home-overview/"><strong>Wildfire Prepared Homes </strong></a>and&nbsp\; <a href="https://wildfireprepared.org/wildfire-prepared-home-plus-overview/"><strong>Wildfire Prepared Homes Plus</strong></a>&nbsp\;designations in California that are designed to help <strong>mitigate fire risk while also providing benefits\, such as insurance premium reductions.</strong><br />\n<br />\nWe are hosting a focus group session in San Rafael to gather feedback from fire professionals\, master gardeners\, insurance companies\, and builders within <strong>Marin County</strong> about their experiences with mitigating wildfire risk and what they think about the IBHS programs. We will start with an<strong> information session about the IBHS programs</strong> and have an open discussion about what you think of the programs and <strong>how they can be tailored to better fit your needs.</strong> Focus groups typically take 90-120 minutes. Focus group participants will receive a<strong> $50 Amazon gift card </strong>as a thank you.<br />\n<br />\n<strong>Monday\, 11/20 from 12:00 pm-2:00 pm at&nbsp\;<br />\nMarin Builders Association\, 660 Las Gallinas Avenue\, San Rafael</strong><br />\n<br />\n<strong>Please reserve your spot by <a href="mailto:melissa.westrip@sjsu.edu">emailing our team</a> or by visiting this site: <strong><a href="https://forms.gle/mrguqu8nnQULonmf6">https://forms.gle/mrguqu8nnQULonmf6</a></strong><br />\n<br />\n<a href="https://chambermaster.blob.core.windows.net/userfiles/UserFiles/chambers/9100/File/Events/Community_Events/2023/Marin-Builders-Wildfire-Preparedness-Flyer.pdf">View Flyer Here</a></strong>
LOCATION:Marin Builders Association 660 Las Gallinas Avenue San Rafael 94903
UID:e.9100.5152
SEQUENCE:3
DTSTAMP:20260423T124304Z
URL:http://marinba.memberzone.com/events/details/feedback-opportunity-for-wildfire-preparedness-program-5152
END:VEVENT

END:VCALENDAR
