BEGIN:VCALENDAR
VERSION:2.0
PRODID:-//ChamberMaster//Event Calendar 2.0//EN
METHOD:PUBLISH
X-PUBLISHED-TTL:P3D
REFRESH-INTERVAL:P3D
CALSCALE:GREGORIAN
BEGIN:VEVENT
DTSTART:20230520T180000Z
DTEND:20230521T000000Z
X-MICROSOFT-CDO-ALLDAYEVENT:FALSE
SUMMARY:Fire Safe Marin Presents EMBER STOMP\, A Wildfire Prevention Festival
DESCRIPTION:Fire Safe Marin presents "Ember Stomp\," the 2nd annual wildfire prevention festival in Marin County. This free event on May 20\, 2023 at the Marin Civic Center Fairgrounds will spotlight an extensive collection of wildfire prevention resources and demonstrations. The festival will feature wildfire safety product manufacturers and service providers\, public safety agencies\, fire smart landscapes expo\, a wildfire themed art exhibit\, live music and entertainment\, hands-on activities and games for kids\, and plenty of great food. Residents will be invited to explore ways to protect their homes and lives from wildfire.\n\n\n\nFor More Information and to Reserve a Spot
X-ALT-DESC;FMTTYPE=text/html:<br />\nFire Safe Marin presents &ldquo\;Ember Stomp\,&rdquo\; the 2nd annual wildfire prevention festival in Marin County. This free event on May 20\, 2023 at the Marin Civic Center Fairgrounds will spotlight an extensive collection of wildfire prevention resources and demonstrations. The festival will feature wildfire safety product manufacturers and service providers\, public safety agencies\, fire smart landscapes expo\, a wildfire themed art exhibit\, live music and entertainment\, hands-on activities and games for kids\, and plenty of great food. Residents will be invited to explore ways to protect their homes and lives from wildfire.<br />\n<br />\n<a href="https://www.eventbrite.com/e/ember-stomp-tickets-461111235117"><u><strong>For More Information and to Reserve a Spot</strong></u></a>
LOCATION:Marin Civic Center Fairgrounds Island 10 Avenue of the Flags San Rafael\, CA 94903
UID:e.9100.5026
SEQUENCE:3
DTSTAMP:20260424T001949Z
URL:http://marinba.memberzone.com/events/details/fire-safe-marin-presents-ember-stomp-a-wildfire-prevention-festival-5026
END:VEVENT

END:VCALENDAR
