BEGIN:VCALENDAR
VERSION:2.0
PRODID:-//ChamberMaster//Event Calendar 2.0//EN
METHOD:PUBLISH
X-PUBLISHED-TTL:P3D
REFRESH-INTERVAL:P3D
CALSCALE:GREGORIAN
BEGIN:VEVENT
DTSTART:20240207T170000Z
DTEND:20240207T190000Z
X-MICROSOFT-CDO-ALLDAYEVENT:FALSE
SUMMARY:Forecasting the Future Hosted by the Marin Economic Forum
DESCRIPTION:The Marin Economic Forum (MEF)\, a public-private funded non-profit 501c (3) organization\, is hosting the annual Forecasting the Future program on Wednesday\, February 7\, 2024. The event will take place from 9:00-11:00 in the Bill & Adele Jonas Center on College of Marin's Indian Valley campus\, with a networking breakfast commencing at 8:00 am. Forecasting the Future has been held in Marin County for the last 10 years and has served as the signature event to discuss Marin?s economy with leaders of business\, government\, non-profit\, and education.\n\n\n\nEVENT DETAILS & AGENDA\n\n\n\nThe 2024 event will focus on business attraction in Marin County. In addition to an excellent reputation for quality of life and natural beaury\, Marin County has also long been associated with innovation and creativity\, sparking such companies as Lucas Film\, Autodesk\, and more recently\, life science powerhouses BioMarin and Ultragenyx. Despite these successes\, Marin County is not typically one of the first regions in the Bay Area that a company may think of locating itself\, especially the tech hotbeds to the South or agriculture centers to the North. But a look inside the data and activity on the ground shows the county may be ripe to capture more businesses\, especially with recent trends of workplaces that favors smaller office footprints. Forecasting the Future is the perfect event to highlight the opportunities for businesses to locate in Marin and to discuss the opportunities to support business attraction going forward.  \n\n\n\nThe program will feature first-hand accounts of companies that have started or located to Marin County\, as well as presentations from experts on the advantages of locating in Marin. Our feature presentation will focus on strategies that Marin could pursue to attract more companies.\n\n\n\nForecasting the Future will also include a presentation on the upcoming challenges and opportunities in the economy as delivered by MEF's Chief Economist\, Dr. Rob Eyler. Dr. Eyler\, a notable expert on the North Bay economy\, will discuss key national and state level policies and proposals that are likely to have an impact on businesses and employees in Marin in 2024 and beyond. \n\n\n\n8:00-9:00am:  Networking Breakfast (Outdoors) \n\n9:00-9:10am:  Opening Remarks \n\n9:10-9:45am:  Economic Forecast \n\n9:45-10:00am:  Outlook for Commercial Real Estate in Marin \n\n10:00-10:15am:  Why I Started a Company in Marin \n\n10:15-10:30am:  Transportation Options in Marin \n\n10:30-11:00am:  Best Practices for Regional Business Attraction \n\n11:00am:  Program Closure\n\n\n\nREGISTER HERE
X-ALT-DESC;FMTTYPE=text/html:<br />\nThe Marin Economic Forum (MEF)\, a public-private funded non-profit 501c (3) organization\, is hosting the annual Forecasting the Future program on Wednesday\, February 7\, 2024. The event will take place from 9:00-11:00 in the Bill &amp\; Adele Jonas Center on College of Marin&#39\;s Indian Valley campus\, with a networking breakfast commencing at 8:00 am. Forecasting the Future has been held in Marin County for the last 10 years and has served as the signature event to discuss Marin?s economy with leaders of business\, government\, non-profit\, and education.<br />\n<br />\n<strong>EVENT DETAILS &amp\; AGENDA</strong><br />\n<br />\nThe 2024 event will focus on business attraction in Marin County. In addition to an excellent reputation for quality of life and natural beaury\, Marin County has also long been associated with innovation and creativity\, sparking such companies as Lucas Film\, Autodesk\, and more recently\, life science powerhouses BioMarin and Ultragenyx. Despite these successes\, Marin County is not typically one of the first regions in the Bay Area that a company may think of locating itself\, especially the tech hotbeds to the South or agriculture centers to the North. But a look inside the data and activity on the ground shows the county may be ripe to capture more businesses\, especially with recent trends of workplaces that favors smaller office footprints. Forecasting the Future is the perfect event to highlight the opportunities for businesses to locate in Marin and to discuss the opportunities to support business attraction going forward.&nbsp\;&nbsp\;<br />\n<br />\nThe program will feature first-hand accounts of companies that have started or located to Marin County\, as well as presentations from experts on the advantages of locating in Marin. Our feature presentation will focus on strategies that Marin could pursue to attract more companies.<br />\n<br />\nForecasting the Future will also include a presentation on the upcoming challenges and opportunities in the economy as delivered by MEF&#39\;s Chief Economist\, Dr. Rob Eyler. Dr. Eyler\, a notable expert on the North Bay economy\, will discuss key national and state level policies and proposals that are likely to have an impact on businesses and employees in Marin in 2024 and beyond.&nbsp\;<br />\n<br />\n8:00-9:00am:&nbsp\; Networking Breakfast (Outdoors)&nbsp\;<br />\n9:00-9:10am:&nbsp\; Opening Remarks&nbsp\;<br />\n9:10-9:45am:&nbsp\; Economic Forecast&nbsp\;<br />\n9:45-10:00am:&nbsp\; Outlook for Commercial Real Estate in Marin&nbsp\;<br />\n10:00-10:15am:&nbsp\; Why I Started a Company in Marin&nbsp\;<br />\n10:15-10:30am:&nbsp\; Transportation Options in Marin&nbsp\;<br />\n10:30-11:00am:&nbsp\; Best Practices for Regional Business Attraction&nbsp\;<br />\n11:00am:&nbsp\; Program Closure<br />\n<br />\n<a href="https://givebutter.com/FTF2024"><strong>REGISTER HERE</strong></a>
LOCATION:College of Marin\, Indian Valley Campus 1800 Ignacio Boulevard Novato\, CA 94949
UID:e.9100.5163
SEQUENCE:3
DTSTAMP:20260423T000731Z
URL:http://marinba.memberzone.com/events/details/forecasting-the-future-hosted-by-the-marin-economic-forum-5163
END:VEVENT

END:VCALENDAR
