BEGIN:VCALENDAR
VERSION:2.0
PRODID:-//ChamberMaster//Event Calendar 2.0//EN
METHOD:PUBLISH
X-PUBLISHED-TTL:P3D
REFRESH-INTERVAL:P3D
CALSCALE:GREGORIAN
BEGIN:VEVENT
DTSTART:20241204T060000Z
DTEND:20241204T070000Z
X-MICROSOFT-CDO-ALLDAYEVENT:FALSE
SUMMARY:FREE WEBINAR: Contracting in the Age of Trump
DESCRIPTION:Join Jim Nagle for an in depth discussion on the state of federal government contracting in the wake of the impending change in administration. \n\n\n\nIn this free webinar\, Jim will outline programs that will likely not change under the new administration\, including the Buy American Act\, as well as several programs and rules that will likely return with a pro-business and anti-regulation perspective\, including tariffs and the border wall. He will also touch on policies from the Biden administration that could be revoked\, including Davis-Bacon regulations and environmental rules.\n\n\n\nREGISTER HERE
X-ALT-DESC;FMTTYPE=text/html:<br />\nJoin <a href="https://www.smithcurrie.com/professionals/james-f-nagle/"><strong>Jim Nagle</strong></a> for an in depth discussion on the state of federal government contracting in the wake of the impending change in administration.&nbsp\;<br />\n<br />\nIn this free webinar\, Jim will outline programs that will likely not change under the new administration\, including the Buy American Act\, as well as several programs and rules that will likely return with a pro-business and anti-regulation perspective\, including tariffs and the border wall. He will also touch on policies from the Biden administration that could be revoked\, including Davis-Bacon regulations and environmental rules.<br />\n<br />\n<a href="https://www.smithcurrie.com/seminars/webinar-contracting-in-the-age-of-trump-december-3-2024/"><u><strong>REGISTER HERE</strong></u></a>
LOCATION:Via Zoom (link will be provided prior to event)
UID:e.9100.5597
SEQUENCE:3
DTSTAMP:20260422T003607Z
URL:http://marinba.memberzone.com/events/details/free-webinar-contracting-in-the-age-of-trump-5597
END:VEVENT

END:VCALENDAR
