BEGIN:VCALENDAR
VERSION:2.0
PRODID:-//ChamberMaster//Event Calendar 2.0//EN
METHOD:PUBLISH
X-PUBLISHED-TTL:P3D
REFRESH-INTERVAL:P3D
CALSCALE:GREGORIAN
BEGIN:VEVENT
DTSTART:20231110T020000Z
DTEND:20231110T033000Z
X-MICROSOFT-CDO-ALLDAYEVENT:FALSE
SUMMARY:Free Webinar: Heat Pump Space Heaters
DESCRIPTION:You can heat (and cool) your home with a single appliance called a heat pump. Heat pumps run on electricity and use the refrigeration and compression cycle to move heat from outside of your home to inside\, making them very efficient. Homeowners are replacing old gas furnaces with heat pumps more and more each year for the following reasons: \n\n\n	Reducing the gas bill \n	Lowering their home's greenhouse gas footprint  \n	Taking advantage of their solar system \n\n\nAdding air conditioning to their home This webinar will cover all the information a homeowner would need to know before investing in a heat pump space heating system\, including the different types of heat pumps\, how they work on a basic level\, selecting the right contractor\, and the various rebate programs available to help pay for your heat pump project.  \n\n\n\nFeatured Speaker: Russ King \n\n\n\nRussell King\, M.E. is a professional mechanical engineer licensed in three states.  He has over 35 years of experience in the areas of residential HVAC design\, diagnostics and consulting\, as well as energy code compliance\, Home Energy Rating System (HERS).  He has taught professional level training on all these topics. \n\n \n\nHe is the CEO and Founder of Coded Energy\, Inc.\, developers of Kwik Model 3D a user interface for HVAC design and energy modeling software. \n\n\n\nRegister Here
X-ALT-DESC;FMTTYPE=text/html:<p>You can heat (and cool) your home with a single appliance called a heat pump. Heat pumps run on electricity and use the refrigeration and compression cycle to move heat from outside of your home to inside\, making them very efficient. Homeowners are replacing old gas furnaces with heat pumps more and more each year for the following reasons:&nbsp\;</p>\n\n<ul>\n	<li>Reducing the gas bill&nbsp\;</li>\n	<li>Lowering their home&rsquo\;s greenhouse gas footprint&nbsp\;&nbsp\;</li>\n	<li>Taking advantage of their solar system&nbsp\;</li>\n</ul>\n\n<p>Adding air conditioning to their home&nbsp\;This webinar will cover all the information a homeowner would need to know before investing in a heat pump space heating system\, including the different types of heat pumps\, how they work on a basic level\, selecting the right contractor\, and the various rebate programs available to help pay for your heat pump project.&nbsp\;&nbsp\;<br />\n<br />\nFeatured Speaker: Russ King&nbsp\;<br />\n<br />\nRussell King\, M.E. is a professional mechanical engineer licensed in three states.&nbsp\; He has over 35 years of experience in the areas of residential HVAC design\, diagnostics and consulting\, as well as energy code compliance\, Home Energy Rating System (HERS).&nbsp\; He has taught professional level training on all these topics.&nbsp\;<br />\n&nbsp\;<br />\nHe is the CEO and Founder of Coded Energy\, Inc.\, developers of Kwik Model 3D a user interface for HVAC design and energy modeling software.&nbsp\;<br />\n<br />\n<strong><a href="https://us06web.zoom.us/webinar/register/WN_wVW1Y55PTGC3o7VcU-h63A#/registration">Register Here</a></strong></p>\n
LOCATION:Online
UID:e.9100.5151
SEQUENCE:3
DTSTAMP:20260423T063525Z
URL:http://marinba.memberzone.com/events/details/free-webinar-heat-pump-space-heaters-5151
END:VEVENT

END:VCALENDAR
