BEGIN:VCALENDAR
VERSION:2.0
PRODID:-//ChamberMaster//Event Calendar 2.0//EN
METHOD:PUBLISH
X-PUBLISHED-TTL:P3D
REFRESH-INTERVAL:P3D
CALSCALE:GREGORIAN
BEGIN:VEVENT
DTSTART:20231103T010000Z
DTEND:20231103T023000Z
X-MICROSOFT-CDO-ALLDAYEVENT:FALSE
SUMMARY:Free Webinar: Heat Pump Water Heaters
DESCRIPTION:Heat pump water heaters are replacing gas water heaters in homes all over the region. Heat pump water heaters run on electricity but are far more efficient than electric resistance water heaters. Replacing your gas water heater for a heat pump water heater can cut 40% of your home's natural gas use! \n\n\n\nThis webinar will cover all the information a homeowner would need to know before investing in a heat pump water heater\, including how they work\, installation considerations\, and the available rebate programs to help fund a heat pump water heater project.  \n\n\n\nThe webinar is focused towards a resident audience. Contractors and other building professionals are welcome to join and ask questions. \n\n\n\nFeatured Speaker: Russ King  \n\n \n\nRussell King\, M.E. is a professional mechanical engineer licensed in three states.  He has over 35 years of experience in the areas of residential HVAC design\, diagnostics and consulting\, as well as energy code compliance\, Home Energy Rating System (HERS).  He has taught professional level training on all these topics.\n\n   \n\nHe is the CEO and Founder of Coded Energy\, Inc.\, developers of Kwik Model 3D a user interface for HVAC design and energy modeling software. \n\n\n\nRegister Here
X-ALT-DESC;FMTTYPE=text/html:<p>Heat pump water heaters are replacing gas water heaters in homes all over the region. Heat pump water heaters run on electricity but are far more efficient than electric resistance water heaters. Replacing your gas water heater for a heat pump water heater can cut 40% of your home&rsquo\;s natural gas use!&nbsp\;<br />\n<br />\nThis webinar will cover all the information a homeowner would need to know before investing in a heat pump water heater\, including how they work\, installation considerations\, and the available rebate programs to help fund a heat pump water heater project.&nbsp\;&nbsp\;<br />\n<br />\nThe webinar is focused towards a resident audience. Contractors and other building professionals are welcome to join and ask questions.&nbsp\;<br />\n<br />\nFeatured Speaker: Russ King &nbsp\;<br />\n&nbsp\;<br />\nRussell King\, M.E. is a professional mechanical engineer licensed in three states.&nbsp\; He has over 35 years of experience in the areas of residential HVAC design\, diagnostics and consulting\, as well as energy code compliance\, Home Energy Rating System (HERS).&nbsp\; He has taught professional level training on all these topics.<br />\n&nbsp\; &nbsp\;<br />\nHe is the CEO and Founder of Coded Energy\, Inc.\, developers of Kwik Model 3D a user interface for HVAC design and energy modeling software.&nbsp\;<br />\n<br />\n<strong><a href="https://us06web.zoom.us/webinar/register/WN_zTs5oWKbSLeC6gyUROaOpw#/registration">Register Here</a></strong></p>\n
LOCATION:Online
UID:e.9100.5149
SEQUENCE:3
DTSTAMP:20260423T080837Z
URL:http://marinba.memberzone.com/events/details/free-webinar-heat-pump-water-heaters-5149
END:VEVENT

END:VCALENDAR
