BEGIN:VCALENDAR
VERSION:2.0
PRODID:-//ChamberMaster//Event Calendar 2.0//EN
METHOD:PUBLISH
X-PUBLISHED-TTL:P3D
REFRESH-INTERVAL:P3D
CALSCALE:GREGORIAN
BEGIN:VEVENT
DTSTART:20250227T020000Z
DTEND:20250227T033000Z
X-MICROSOFT-CDO-ALLDAYEVENT:FALSE
SUMMARY:Free Webinar: Heat Pump Water Heaters for Residential Use
DESCRIPTION:This webinar will cover all the information a homeowner needs to know before investing in a heat pump water heater for their single family home. Attendees will learn the basics of how heat pump water heaters work\, installation considerations\, and funding programs that can help pay for their project.\n\n\n\nThere will be time at the end of the session for open Q&A with our expert guest speaker Russ King\, M.E.\n\n\n\nRegister Here\n\n\n\nSpeaker bio: \n\n\n\nRuss King is a Licensed Mechanical Engineer in 3 states and the CEO of Coded Energy\, Inc.\, which develops a 3D HVAC design software and DIYLoadCalcs.com. He has 35+ years with residential HVAC design and energy efficiency and has conducted BayREN Codes and Standards trainings for Bay Area building departments\, including local jurisdictions in Marin. Contact: russ@coded.energy HVAC blog: www.russelking.me
X-ALT-DESC;FMTTYPE=text/html:<br />\nThis webinar will cover all the information a homeowner needs to know before investing in a heat pump water heater for their single family home. Attendees will learn the basics of how heat pump water heaters work\, installation considerations\, and funding programs that can help pay for their project.<br />\n<br />\nThere will be time at the end of the session for open Q&amp\;A with our expert guest speaker Russ King\, M.E.<br />\n<br />\n<a href="https://us06web.zoom.us/webinar/register/WN_cVGlG64yTJKTbn46HQtf4w#/registration"><strong>Register Here</strong></a><br />\n<br />\nSpeaker bio:&nbsp\;<br />\n<br />\nRuss King is a Licensed Mechanical Engineer in 3 states and the CEO of Coded Energy\, Inc.\, which develops a 3D HVAC design software and DIYLoadCalcs.com. He has 35+ years with residential HVAC design and energy efficiency and has conducted BayREN Codes and Standards trainings for Bay Area building departments\, including local jurisdictions in Marin. Contact: <a href="mailto:russ@coded.energy">russ@coded.energy </a>HVAC blog: <a href="http://www.russelking.me">www.russelking.me</a>
LOCATION:Virtual on Zoom
UID:e.9100.5633
SEQUENCE:3
DTSTAMP:20260421T210129Z
URL:http://marinba.memberzone.com/events/details/free-webinar-heat-pump-water-heaters-for-residential-use-5633
END:VEVENT

END:VCALENDAR
