BEGIN:VCALENDAR
VERSION:2.0
PRODID:-//ChamberMaster//Event Calendar 2.0//EN
METHOD:PUBLISH
X-PUBLISHED-TTL:P3D
REFRESH-INTERVAL:P3D
CALSCALE:GREGORIAN
BEGIN:VEVENT
DTSTART:20250306T020000Z
DTEND:20250306T033000Z
X-MICROSOFT-CDO-ALLDAYEVENT:FALSE
SUMMARY:Free Webinar: Heat Pumps for Space Heating and Cooling for Residential Use
DESCRIPTION:How old is your gas furnace? Does it need to be replaced soon?\n\n\n\nJoin this webinar to learn why it could make sense to switch to an efficient electric-powered heat pump for your home?s heating and cooling needs.\n\n\n\nWe will cover how heat pumps work\, what you need to know before installing one\, common issues and considerations\, myths about heat pump space heating\, and more. We will also share information on incentive programs that can help pay for your heat pump project\, and the local regulation landscape.\n\n\n\nRegister Here \n\n\n\nThere will be time at the end of the session for Q&A with our expert speaker\, Russ King M.E.\n\n\n\nSpeaker bio: \n\n\n\nRuss is a Licensed Mechanical Engineer in 3 states and the CEO of Coded Energy\, Inc.\, which develops a 3D HVAC design software and DIYLoadCalcs.com. He has 35+ years with residential HVAC design and energy efficiency and has conducted BayREN Codes and Standards trainings for Bay Area building departments\, including local jurisdictions in Marin. Contact: russ@coded.energy HVAC blog: www.russelking.me
X-ALT-DESC;FMTTYPE=text/html:<p><br />\nHow old is your gas furnace? Does it need to be replaced soon?<br />\n<br />\nJoin this webinar to learn why it could make sense to switch to an efficient electric-powered heat pump for your home?s heating and cooling needs.<br />\n<br />\nWe will cover how heat pumps work\, what you need to know before installing one\, common issues and considerations\, myths about heat pump space heating\, and more. We will also share information on incentive programs that can help pay for your heat pump project\, and the local regulation landscape.<br />\n<br />\n<a href="https://us06web.zoom.us/webinar/register/WN_1lWGWXyySv64NZf4jL887Q#/registration"><strong>Register Here&nbsp\;</strong></a><br />\n<br />\nThere will be time at the end of the session for Q&amp\;A with our expert speaker\, Russ King M.E.<br />\n<br />\nSpeaker bio:&nbsp\;<br />\n<br />\nRuss is a Licensed Mechanical Engineer in 3 states and the CEO of Coded Energy\, Inc.\, which develops a 3D HVAC design software and DIYLoadCalcs.com. He has 35+ years with residential HVAC design and energy efficiency and has conducted BayREN Codes and Standards trainings for Bay Area building departments\, including local jurisdictions in Marin. Contact: <a href="mailto:russ@coded.energy">russ@coded.energy</a> HVAC blog: <a href="http://www.russelking.me">www.russelking.me</a></p>\n
LOCATION:Virtual on Zoom
UID:e.9100.5634
SEQUENCE:3
DTSTAMP:20260421T174628Z
URL:http://marinba.memberzone.com/events/details/free-webinar-heat-pumps-for-space-heating-and-cooling-for-residential-use-5634
END:VEVENT

END:VCALENDAR
