BEGIN:VCALENDAR
VERSION:2.0
PRODID:-//ChamberMaster//Event Calendar 2.0//EN
METHOD:PUBLISH
X-PUBLISHED-TTL:P3D
REFRESH-INTERVAL:P3D
CALSCALE:GREGORIAN
BEGIN:VEVENT
DTSTART:20231108T020000Z
DTEND:20231108T033000Z
X-MICROSOFT-CDO-ALLDAYEVENT:FALSE
SUMMARY:Free Webinar: Solar + Battery Storage
DESCRIPTION:Should you go solar\, and should you add battery backup if you do?  \n\n\n\nThis webinar will cover the basic information a homeowner needs to know before investing in solar and/or battery storage\, including how solar works\, what value batteries can add\, and the basic costs and return on investment.  \n\n\n\nThe audience for this webinar is single family homeowners. Contractors and other building industry stakeholders are welcome to join and ask questions.\n\n\n\nFeatured Speaker: Sean Armstrong\, Redwood Energy\n\n\n\nSean Armstrong is the Managing Principal of Redwood Energy and has worked for 28 years in building electrification\, designed the retrofit and new construction of more than 25\,000 all-electric residences for disadvantaged populations\, co-authored 7 "pocket guides" to building electrification\, provided legal and technical support to building gas bans nationwide\, and has received Grand Prize awards from the United Nations and the California Building Industry Association. Sean was inducted into California's Clean Energy Hall of Fame in 2022\, and in 2023-2024 is working with other nations on their Net Zero goals on behalf of the U.S. State Department.\n\n\n\n\n\nRegister Here
X-ALT-DESC;FMTTYPE=text/html:<p>Should you go solar\, and should you add battery backup if you do?&nbsp\;&nbsp\;<br />\n<br />\nThis webinar will cover the basic information a homeowner needs to know before investing in solar and/or battery storage\, including how solar works\, what value batteries can add\, and the basic costs and return on investment.&nbsp\;&nbsp\;<br />\n<br />\nThe audience for this webinar is single family homeowners. Contractors and other building industry stakeholders are welcome to join and ask questions.<br />\n<br />\nFeatured Speaker: Sean Armstrong\, Redwood Energy<br />\n<br />\nSean Armstrong is the Managing Principal of Redwood Energy and has worked for 28 years in building electrification\, designed the retrofit and new construction of more than 25\,000 all-electric residences for disadvantaged populations\, co-authored 7 &quot\;pocket guides&quot\; to building electrification\, provided legal and technical support to building gas bans nationwide\, and has received Grand Prize awards from the United Nations and the California Building Industry Association. Sean was inducted into California&#39\;s Clean Energy Hall of Fame in 2022\, and in 2023-2024 is working with other nations on their Net Zero goals on behalf of the U.S. State Department.<br />\n<br />\n<br />\n<strong><a href="https://us06web.zoom.us/webinar/register/WN_jquA7XqMTl2imY4que5X6g#/registration">Register Here</a></strong></p>\n
LOCATION:Online
UID:e.9100.5150
SEQUENCE:3
DTSTAMP:20260423T063344Z
URL:http://marinba.memberzone.com/events/details/free-webinar-solar-battery-storage-5150
END:VEVENT

END:VCALENDAR
