BEGIN:VCALENDAR
VERSION:2.0
PRODID:-//ChamberMaster//Event Calendar 2.0//EN
METHOD:PUBLISH
X-PUBLISHED-TTL:P3D
REFRESH-INTERVAL:P3D
CALSCALE:GREGORIAN
BEGIN:VEVENT
DTSTART:20230301T180000Z
DTEND:20230301T190000Z
X-MICROSOFT-CDO-ALLDAYEVENT:FALSE
SUMMARY:How Artificial Intelligence is Revolutionizing the Residential Construction Industry
DESCRIPTION:The residential construction industry is experiencing a significant shift\, as the integration of Artificial Intelligence (AI) is becoming more prevalent. With the help of AI-powered tools and systems\, contractors and builders can streamline their processes\, reduce costs\, and increase efficiency like never before.\n\n\n\nOn March 1st 2023 at 11:00 AM industry professionals will have the opportunity to learn about the latest AI technologies transforming the construction industry in a free webinar. Our AI Expert in the Residential Construction Industry\, will provide insights and best practices for leveraging AI in construction businesses.\n\n\n\nThe event is free to attend and will provide attendees with the tools they need to successfully integrate AI into their construction business.
X-ALT-DESC;FMTTYPE=text/html:The residential construction industry is experiencing a significant shift\, as the integration of Artificial Intelligence (AI) is becoming more prevalent. With the help of AI-powered tools and systems\, contractors and builders can streamline their processes\, reduce costs\, and increase efficiency like never before.<br />\n<br />\nOn March 1st 2023 at 11:00 AM industry professionals will have the opportunity to learn about the latest AI technologies transforming the construction industry in a free webinar. Our AI Expert in the Residential Construction Industry\, will provide insights and best practices for leveraging AI in construction businesses.<br />\n<br />\nThe event is free to attend and will provide attendees with the tools they need to successfully integrate AI into their construction business.
LOCATION:Virtual Register Here
UID:e.9100.5041
SEQUENCE:3
DTSTAMP:20260424T044702Z
URL:http://marinba.memberzone.com/events/details/how-artificial-intelligence-is-revolutionizing-the-residential-construction-industry-5041
END:VEVENT

END:VCALENDAR
