BEGIN:VCALENDAR
VERSION:2.0
PRODID:-//ChamberMaster//Event Calendar 2.0//EN
METHOD:PUBLISH
X-PUBLISHED-TTL:P3D
REFRESH-INTERVAL:P3D
CALSCALE:GREGORIAN
BEGIN:VEVENT
DTSTART:20250227T180000Z
DTEND:20250227T190000Z
X-MICROSOFT-CDO-ALLDAYEVENT:FALSE
SUMMARY:HR Perspectives: Retirement Requirements
DESCRIPTION:FREE WEBINAR\n\nRetirement plans aren't just a nice to have benefit anymore. They have become a standard for many job seekers\, and in some states even a mandate for employers. Let's talk about different approaches.\n\nJoin us Thursday\, February 27 at 10:00 a.m. Pacific.\n\nREGISTER HERE
X-ALT-DESC;FMTTYPE=text/html:<p><span style="font-size:14px"><span style="font-family:verdana"><u><strong>FREE WEBINAR</strong></u></span></span></p>\n\n<p><span style="font-size:14px"><span style="font-family:verdana">Retirement plans aren&#39\;t just a nice to have benefit anymore. They have become a standard for many job seekers\, and in some states even a mandate for employers. Let&#39\;s talk about different approaches.</span></span></p>\n\n<p><strong><span style="font-size:14px"><span style="font-family:verdana">Join us Thursday\, February 27 at 10:00 a.m. Pacific.<br />\n<span style="font-size:18px"><a href="https://coastalpayroll.zoom.us/webinar/register/4217377681266/WN_QzerLNXlRzOo6fBGTuv-fw">REGISTER HERE</a></span></span></span></strong></p>\n
LOCATION:ZOOM - REGISTER HERE
UID:e.9100.5630
SEQUENCE:3
DTSTAMP:20260421T205930Z
URL:http://marinba.memberzone.com/events/details/hr-perspectives-retirement-requirements-5630
END:VEVENT

END:VCALENDAR
