BEGIN:VCALENDAR
VERSION:2.0
PRODID:-//ChamberMaster//Event Calendar 2.0//EN
METHOD:PUBLISH
X-PUBLISHED-TTL:P3D
REFRESH-INTERVAL:P3D
CALSCALE:GREGORIAN
BEGIN:VEVENT
DTSTART:20230413T190000Z
DTEND:20230413T203000Z
X-MICROSOFT-CDO-ALLDAYEVENT:FALSE
SUMMARY:Increasing Sales with Google Ads
DESCRIPTION:Being successful online is essential now more than ever. This webinar will teach you ways to use Google Ads to increase your marketing capabilities and show up better in searches. There will also be time for you to share what you've seen working\, ask your questions and learn new tricks. Clients who have taken this workshop have seen increases in sales and a targeted approach to attracting the right clients.\n\n\n\nHere's a recent client testimonial from working with Instructor Bill Ross "For our AdWords internet ads\, we were able to not only hone in on the customers we were trying to reach\, but also save hundreds of dollars! Thank you for this incredible service!"\n\n\n\nInstructor Bill Ross is a 20+ year digital marketing veteran with experience ranging from being a Founder/CEO of a high volume BtoC eCommerce business to working as a Senior Operations Manager at Amazon Logistics. Bill has his Master's Degree in Marketing Information Systems and actively coaches eCommerce clients.\n\n\n\nFor More Information and to Register
X-ALT-DESC;FMTTYPE=text/html:<p>Being successful online is essential now more than ever. This webinar will teach you ways to use Google Ads to increase your marketing capabilities and show up better in searches. There will also be time for you to share what you&#39\;ve seen working\, ask your questions and learn new tricks. Clients who have taken this workshop have seen increases in sales and a targeted approach to attracting the right clients.<br />\n<br />\nHere&rsquo\;s a recent client testimonial from working with Instructor Bill Ross &ldquo\;For our AdWords internet ads\, we were able to not only hone in on the customers we were trying to reach\, but also save hundreds of dollars! Thank you for this incredible service!&rdquo\;<br />\n<br />\nInstructor Bill Ross is a 20+ year digital marketing veteran with experience ranging from being a Founder/CEO of a high volume BtoC eCommerce business to working as a Senior Operations Manager at Amazon Logistics. Bill has his Master&rsquo\;s Degree in Marketing Information Systems and actively coaches eCommerce clients.<br />\n<br />\n<a href="https://www.marinsbdc.org/event/increase-sales-with-google-ads/"><u><strong>For More Information and to Register</strong></u></a><br />\n<br />\n&nbsp\;</p>\n
LOCATION:All workshops are online.
UID:e.9100.5034
SEQUENCE:3
DTSTAMP:20260424T032304Z
URL:http://marinba.memberzone.com/events/details/increasing-sales-with-google-ads-5034
END:VEVENT

END:VCALENDAR
