BEGIN:VCALENDAR
VERSION:2.0
PRODID:-//ChamberMaster//Event Calendar 2.0//EN
METHOD:PUBLISH
X-PUBLISHED-TTL:P3D
REFRESH-INTERVAL:P3D
CALSCALE:GREGORIAN
BEGIN:VEVENT
DTSTART:20230913T190000Z
DTEND:20230913T203000Z
X-MICROSOFT-CDO-ALLDAYEVENT:FALSE
SUMMARY:Instagram\, Threads & Reels
DESCRIPTION:Event Details\nLearn the latest upgrades with Instagram including Threads and how to work with Reels. We'll show you how to navigate the new features and get the results you want to better engage with your customers and grow your presence and engagement. The Reels feature has proven to be an exceptional way for businesses to increase exposure and grow your following. Be ready to follow along in your accounts and get tips to implement right away.\n\n\n\nInstructor Stephanie Koehler\, Owner of SAKinterMedia has over 25 years of experience with marketing and promoting everything from musicians + movies to marketing organic salad + museums\; leading multi-million $ fundraising campaigns\; managing successful non-profits and training the leaders of tomorrow   her experience is unparalleled. Having served as assistant to singer Linda Ronstadt   she developed an expertise in personal branding as well as media and public relations on the local\, national and international level. A writer\, columnist and photographer\, Stephanie is a regular contributor to newspapers and magazines nationwide.\n\n\n\nVIEW FLYER
X-ALT-DESC;FMTTYPE=text/html:<h2><strong>Event Details</strong></h2>\nLearn the latest upgrades with Instagram including Threads and how to work with Reels. We&rsquo\;ll show you how to navigate the new features and get the results you want to better engage with your customers and grow your presence and engagement. The Reels feature has proven to be an exceptional way for businesses to increase exposure and grow your following. Be ready to follow along in your accounts and get tips to implement right away.<br />\n<br />\nInstructor Stephanie Koehler\, Owner of SAKinterMedia has over 25 years of experience with marketing and promoting everything from musicians + movies to marketing organic salad + museums\; leading multi-million $ fundraising campaigns\; managing successful non-profits and training the leaders of tomorrow &ndash\; her experience is unparalleled. Having served as assistant to singer Linda Ronstadt &ndash\; she developed an expertise in personal branding as well as media and public relations on the local\, national and international level. A writer\, columnist and photographer\, Stephanie is a regular contributor to newspapers and magazines nationwide.<br />\n<br />\n<a href="https://chambermaster.blob.core.windows.net/userfiles/UserFiles/chambers/9100/File/Events/Member_Events/SBDC_Events/Marin-Builders-SBDC-September-Workshops-2023.pdf"><strong>VIEW FLYER</strong></a><br />\n&nbsp\;
LOCATION:Virtual Webinar
UID:e.9100.5132
SEQUENCE:3
DTSTAMP:20260423T163557Z
URL:http://marinba.memberzone.com/events/details/instagram-threads-reels-5132
END:VEVENT

END:VCALENDAR
