BEGIN:VCALENDAR
VERSION:2.0
PRODID:-//ChamberMaster//Event Calendar 2.0//EN
METHOD:PUBLISH
X-PUBLISHED-TTL:P3D
REFRESH-INTERVAL:P3D
CALSCALE:GREGORIAN
BEGIN:VEVENT
DTSTART:20230412T160000Z
DTEND:20230412T170000Z
X-MICROSOFT-CDO-ALLDAYEVENT:FALSE
SUMMARY:Installing Heat Pump Water Heaters in Emergency Replacement Situations
DESCRIPTION:Join BayREN on April 12th for a free webinar to learn about a new model for selling heat pump water heaters (HPWHs) in emergency replacement situations. In 2022\, Barnett Plumbing received a TECH Quick Start Grant to pilot an innovative system of installing temporary loaner gas water heaters in homes that are strong candidates for HPWHs but require additional permitting and electrical work.\n\n\n\nRepresentatives from Barnett\, BayREN\, and TECH will discuss the outcomes of this approach and lessons learned for other contractors looking to expand into the HPWH market.\n\n\n\nRSVP here: https://BayRENhpwh.eventbrite.com
X-ALT-DESC;FMTTYPE=text/html:<br />\nJoin BayREN on April 12th for a free webinar to learn about a new model for selling heat pump water heaters (HPWHs) in emergency replacement situations. In 2022\, Barnett Plumbing received a TECH Quick Start Grant to pilot an innovative system of installing temporary loaner gas water heaters in homes that are strong candidates for HPWHs but require additional permitting and electrical work.<br />\n<br />\nRepresentatives from Barnett\, BayREN\, and TECH will discuss the outcomes of this approach and lessons learned for other contractors looking to expand into the HPWH market.<br />\n<br />\n<strong>RSVP here: <a href="https://BayRENhpwh.eventbrite.com">https://BayRENhpwh.eventbrite.com</a></strong>
LOCATION:Online
UID:e.9100.5074
SEQUENCE:3
DTSTAMP:20260424T032411Z
URL:http://marinba.memberzone.com/events/details/installing-heat-pump-water-heaters-in-emergency-replacement-situations-5074
END:VEVENT

END:VCALENDAR
