BEGIN:VCALENDAR
VERSION:2.0
PRODID:-//ChamberMaster//Event Calendar 2.0//EN
METHOD:PUBLISH
X-PUBLISHED-TTL:P3D
REFRESH-INTERVAL:P3D
CALSCALE:GREGORIAN
BEGIN:VEVENT
DTSTART:20240501T200000Z
DTEND:20240501T210000Z
X-MICROSOFT-CDO-ALLDAYEVENT:FALSE
SUMMARY:International Furnishings & Design Association Webinar: Drama-Free Projects for Ease & Prosperity
DESCRIPTION:We love design! And the process is so complex\, with many points of possible breakdown along the way new team\; new challenges with every project\; thousands of details\; sub-par communication\; delays\; who is in charge anyway?\; clients!\; even the weather. When things do break down\, it's easy to get caught in a cycle of stress\, blame\, drama and negativity. In fact\, your brain is wired to do just that!\n\n\n\nYou have the power to create your own stress and you have the power to create your own ease. This interactive webinar will focus on how to harness your innate powers of empathy\, curiosity\, creativity and laser-focused action to build a drama-free business so you can do more of what you love\, and do it with ease. Imagine if you could just roll with it\, doing projects without any wasted energy. What would that do for you?\n\n\n\nGood news\; it's all in your head and that means you can change it! You will learn how becoming mentally fit rewires your brain to quiet the voices that foster negativity\, drama and stress\, and to shift to the calm\, clear\, creative Sage at your core.\n\n\n\nThe session will cover:\n\n	The science of how and why you go negative\n	The three core muscles at the root of Mental Fitness\n	The Sage Perspective and how it changes everything\n	Simple exercises to rewire your brain for positivity and calm\n	An interactive exercise to start understanding your recurrent patterns\n\nAttendees are strongly encouraged to take the Saboteur Assessment before the event\, and to bring their results\, to get the most out of the talk\, https://www.positiveintelligence.com/saboteurs/.\n\n\n\nThis webinar will be led by Marin Builders member\, Janine Aurichio\, YES2YUM Life Styling.\n\n\n\nREGISTER HERE
X-ALT-DESC;FMTTYPE=text/html:<strong>We love design!&nbsp\;</strong>And the process is so complex\, with many points of possible breakdown along the way&mdash\;new team\; new challenges with every project\; thousands of details\; sub-par communication\; delays\; who is in charge anyway?\; clients!\; even the weather. When things do break down\, it&rsquo\;s easy to get caught in a cycle of stress\, blame\, drama and negativity. In fact\, your brain is wired to do just that!<br />\n<br />\nYou have the power to create your own stress and you have the power to create your own ease. This interactive webinar will focus on how to harness your innate powers of empathy\, curiosity\, creativity and laser-focused action to build a drama-free business so you can do more of what you love\, and do it with ease. Imagine if you could just roll with it\, doing projects without any wasted energy. What would that do for you?<br />\n<br />\nGood news\; it&rsquo\;s all in your head and that means you can change it! You will learn how becoming mentally fit rewires your brain to quiet the voices that foster negativity\, drama and stress\, and to shift to the calm\, clear\, creative Sage at your core.<br />\n<br />\n<strong>The session will cover:</strong>\n<ul>\n	<li>The science of how and why you go negative</li>\n	<li>The three core muscles at the root of Mental Fitness</li>\n	<li>The Sage Perspective and how it changes everything</li>\n	<li>Simple exercises to rewire your brain for positivity and calm</li>\n	<li>An interactive exercise to start understanding your recurrent patterns</li>\n</ul>\nAttendees are strongly encouraged to take the Saboteur Assessment before the event\, and to bring their results\, to get the most out of the talk\,&nbsp\;<strong><a href="https://www.positiveintelligence.com/saboteurs/.">https://www.positiveintelligence.com/saboteurs/.</a></strong><br />\n<br />\nThis webinar will be led by Marin Builders member\, Janine Aurichio\,<a href="https://www.yes2yum.com/">&nbsp\;YES2YUM Life Styling</a>.<br />\n<br />\n<a href="https://ifda.com/event/drama-free-projects-for-ease-and-prosperity/">REGISTER HERE</a><br />\n&nbsp\;
LOCATION:Virtual REGISTER HERE FOR ZOOM INFORMATION
UID:e.9100.5324
SEQUENCE:3
DTSTAMP:20260422T161256Z
URL:http://marinba.memberzone.com/events/details/international-furnishings-design-association-webinar-drama-free-projects-for-ease-prosperity-5324
END:VEVENT

END:VCALENDAR
