BEGIN:VCALENDAR
VERSION:2.0
PRODID:-//ChamberMaster//Event Calendar 2.0//EN
METHOD:PUBLISH
X-PUBLISHED-TTL:P3D
REFRESH-INTERVAL:P3D
CALSCALE:GREGORIAN
BEGIN:VEVENT
DTSTART:20240326T153000Z
DTEND:20240326T230000Z
X-MICROSOFT-CDO-ALLDAYEVENT:FALSE
SUMMARY:Lutron RadioRA3 Certification Course - North Bay - Presented by Associated Lighting Representatives
DESCRIPTION:Meet ALR at the Marin Builder's Association and get RadioRA3 Certified! This in-person class will cover the online training content\, including design and software review in preparation to take the certification test. There will be online tutorials and in class presentations. This class is open to new lighting dealers and RadioRa2 certified dealers. The certification test will be offered at the end of class.
X-ALT-DESC;FMTTYPE=text/html:<br />\nMeet ALR at the Marin Builder&#39\;s Association and get RadioRA3 Certified! This in-person class will cover the online training content\, including design and software review in preparation to take the certification test. There will be online tutorials and in class presentations. This class is open to new lighting dealers and RadioRa2 certified dealers. The certification test will be offered at the end of class.
LOCATION:Marin Builders Association 660 Las Gallinas Ave. San Rafael\, CA 94903
UID:e.9100.5307
SEQUENCE:3
DTSTAMP:20260422T235638Z
URL:http://marinba.memberzone.com/events/details/lutron-radiora3-certification-course-north-bay-presented-by-associated-lighting-representatives-5307
END:VEVENT

END:VCALENDAR
