BEGIN:VCALENDAR
VERSION:2.0
PRODID:-//ChamberMaster//Event Calendar 2.0//EN
METHOD:PUBLISH
X-PUBLISHED-TTL:P3D
REFRESH-INTERVAL:P3D
CALSCALE:GREGORIAN
BEGIN:VEVENT
DTSTART:20250418T170000Z
DTEND:20250419T000000Z
X-MICROSOFT-CDO-ALLDAYEVENT:FALSE
SUMMARY:Make It Home Warehouse Sale!
DESCRIPTION:YOU'RE INVITED TO #SHOPFORGOOD AT OUR WAREHOUSE SALE!\n\n\n\nAll proceeds from this sale will directly benefit the families and individuals we serve. Purchases will be used to provide brand-new sleeping pillows\, beds and frames\, and essential cleaning supplies.
X-ALT-DESC;FMTTYPE=text/html:<h3><strong>YOU&#39\;RE INVITED TO #SHOPFORGOOD AT OUR WAREHOUSE SALE!</strong></h3>\n\n<p><br />\nAll proceeds from this sale will directly benefit the families and individuals we serve. Purchases will be used to provide brand-new sleeping pillows\, beds and frames\, and essential cleaning supplies.</p>\n
LOCATION:
UID:e.9100.5642
SEQUENCE:3
DTSTAMP:20260421T193012Z
URL:http://marinba.memberzone.com/events/details/make-it-home-warehouse-sale-5642
END:VEVENT

END:VCALENDAR
