BEGIN:VCALENDAR
VERSION:2.0
PRODID:-//ChamberMaster//Event Calendar 2.0//EN
METHOD:PUBLISH
X-PUBLISHED-TTL:P3D
REFRESH-INTERVAL:P3D
CALSCALE:GREGORIAN
BEGIN:VEVENT
DTSTART:20230504T153000Z
DTEND:20230504T163000Z
X-MICROSOFT-CDO-ALLDAYEVENT:FALSE
SUMMARY:Marin Builders Association Member Morning: Meet Our 2023 Board of Directors!
DESCRIPTION:Come and enjoy donuts & coffee with your fellow members\, and hear what's new at Marin Builders Association!\n\n\n	Meet our wonderful 2023 Board of Directors\n	Make valuable member-to-member connections \n	Build new partnerships\, meet potential clients and fellow collaborators\n\nSpecial thanks to our Coffee and Donut Sponsor\, George Petersen Insurance Agency!\n\n\n\nSpace is limited.  Please RSVP by April 28th to christine@marinbuilders.com\; 415-462-1220 x 109 \n\n\n\nDue to the wonderful attendance we expect for this\, we are asking everyone to park across the street at the Northgate Mall so we can reserve our back lot for our subtenants and their clients.  For first-time visitors\, our entrance is at the rear of our building down the driveway on the side of our building.
X-ALT-DESC;FMTTYPE=text/html:<p><br />\nCome and enjoy donuts &amp\; coffee with your fellow members\, and hear what&#39\;s new at Marin Builders Association!</p>\n\n<ul>\n	<li><strong>Meet our wonderful <a href="https://www.marinbuilders.com/groups/GroupRoster/board-of-directors-leadership-16">2023 Board of Directors</a></strong></li>\n	<li>Make valuable member-to-member connections&nbsp\;</li>\n	<li>Build new partnerships\, meet potential clients and fellow collaborators</li>\n</ul>\n<em><strong>Special thanks to our Coffee and Donut Sponsor\, <a href="https://www.marinbuilders.com/list/member/george-petersen-insurance-agency-1060">George Petersen Insurance Agency</a>!</strong></em><br />\n<br />\nSpace is limited.&nbsp\;&nbsp\;Please RSVP by April 28th to&nbsp\;<a href="mailto:christine@marinbuilders.com">christine@marinbuilders.com</a>\; 415-462-1220 x 109&nbsp\;<br />\n<br />\n<strong>Due to the wonderful attendance&nbsp\;we expect for this\, we are asking everyone to park across the street at the Northgate Mall so we can reserve our back lot for our subtenants and their clients.&nbsp\;</strong>&nbsp\;<strong>For first-time visitors\, our entrance is at the rear of our building down the driveway on the side of our building.</strong>\n\n<p><br />\n<br />\n<br />\n<br />\n<br />\n&nbsp\; &nbsp\;&nbsp\; &nbsp\; &nbsp\; &nbsp\; &nbsp\; &nbsp\; &nbsp\;</p>\n
LOCATION:Marin Builders Association 660 Las Gallinas Avenue San Rafael\, CA 94903 PLEASE PARK ACROSS THE STREET AT THE NORTHGATE MALL
UID:e.9100.5059
SEQUENCE:3
DTSTAMP:20260424T002130Z
URL:http://marinba.memberzone.com/events/details/marin-builders-association-member-morning-meet-our-2023-board-of-directors-5059
END:VEVENT

END:VCALENDAR
