BEGIN:VCALENDAR
VERSION:2.0
PRODID:-//ChamberMaster//Event Calendar 2.0//EN
METHOD:PUBLISH
X-PUBLISHED-TTL:P3D
REFRESH-INTERVAL:P3D
CALSCALE:GREGORIAN
BEGIN:VEVENT
DTSTART:20241113T200000Z
DTEND:20241113T220000Z
X-MICROSOFT-CDO-ALLDAYEVENT:FALSE
SUMMARY:Marin County Codes Advisory Board Meeting
DESCRIPTION:The Marin County Codes Advisory Board (MCCAB) Meeting occurs every third Wednesday of the month from 12pm to 2pm. The meetings are attended by Marin building department staff\, and local contractors and architects. The purpose of MCCAB is to identify code enforcement issues in the field and work to coordinate consistent code enforcement across the Marin jurisdictions.\n\n\n\nThe first half of the meeting features a guest speaker or trainer on a building code topic. Representatives from the Plumbing Heating and Cooling Contractors (PHCC) Association Redwood Empire Chapter will join this meeting to discuss permitting and inspection in Marin jurisdictions.\n\n \n\nAgenda:\n\n	Welcome and Intros\n	BayREN Resources / Countywide Electrification Roadmap Permitting Recommendation / Contractor survey results\n	Open time for permitting and inspection discussion with PHCC\n	General code discussion\n	Adjourn \n\n\n\nThis is a hybrid meeting. You can join via zoom at the link below or join us in person at the Marin County Civic Center (3501 Civic Center Drive\, San Rafael) Room 308A.\n\n \n\nJoin Zoom Meeting\n\nhttps://us06web.zoom.us/j/81117102863?pwd=B0mOnYffaNKPRTnfFGwkCz4Vo0DXbL.1\n\n\n\nMeeting ID: 811 1710 2863\n\nPasscode: 955265\n\n\n\nLunch will be provided. This is the last MCCAB meeting of the year (no December meeting).
X-ALT-DESC;FMTTYPE=text/html:The Marin County Codes Advisory Board (MCCAB) Meeting occurs every third Wednesday of the month from 12pm to 2pm. The meetings are attended by Marin building department staff\, and local contractors and architects. The purpose of MCCAB is to identify code enforcement issues in the field and work to coordinate consistent code enforcement across the Marin jurisdictions.<br />\n<br />\nThe first half of the meeting features a guest speaker or trainer on a building code topic. Representatives from the Plumbing Heating and Cooling Contractors (PHCC) Association Redwood Empire Chapter will join this meeting to discuss permitting and inspection in Marin jurisdictions.<br />\n&nbsp\;<br />\n<strong>Agenda:</strong>\n<ul>\n	<li>Welcome and Intros</li>\n	<li>BayREN Resources / Countywide Electrification Roadmap Permitting Recommendation / Contractor survey results</li>\n	<li>Open time for permitting and inspection discussion with PHCC</li>\n	<li>General code discussion</li>\n	<li>Adjourn&nbsp\;</li>\n</ul>\n<br />\nThis is a hybrid meeting. You can join via zoom at the link below or join us in person at the Marin County Civic Center (3501 Civic Center Drive\, San Rafael) Room 308A.<br />\n&nbsp\;<br />\nJoin Zoom Meeting<br />\n<strong><a href="https://us06web.zoom.us/j/81117102863?pwd=B0mOnYffaNKPRTnfFGwkCz4Vo0DXbL.1">https://us06web.zoom.us/j/81117102863?pwd=B0mOnYffaNKPRTnfFGwkCz4Vo0DXbL.1</a></strong><br />\n<br />\nMeeting ID: 811 1710 2863<br />\nPasscode: 955265<br />\n<br />\nLunch will be provided. This is the last MCCAB meeting of the year (no December meeting).&nbsp\;
LOCATION:This is a hybrid meeting. You can join via zoom at the link below or join us in person at the Marin County Civic Center (3501 Civic Center Drive\, San Rafael) Room 308A. Join Zoom Meeting https://us06web.zoom.us/j/81117102863?pwd=B0mOnYffaNKPRTnfFGwkCz4Vo0DXbL.1 Meeting ID: 811 1710 2863 Passcode: 955265
UID:e.9100.5594
SEQUENCE:3
DTSTAMP:20260422T042122Z
URL:http://marinba.memberzone.com/events/details/marin-county-codes-advisory-board-meeting-5594
END:VEVENT

END:VCALENDAR
